BEGIN:VCALENDAR
VERSION:2.0
PRODID:-//Bermuda Volleyball Association - ECPv6.15.20//NONSGML v1.0//EN
CALSCALE:GREGORIAN
METHOD:PUBLISH
X-ORIGINAL-URL:https://www.bva.bm
X-WR-CALDESC:Events for Bermuda Volleyball Association
REFRESH-INTERVAL;VALUE=DURATION:PT1H
X-Robots-Tag:noindex
X-PUBLISHED-TTL:PT1H
BEGIN:VTIMEZONE
TZID:Atlantic/Bermuda
BEGIN:DAYLIGHT
TZOFFSETFROM:-0400
TZOFFSETTO:-0300
TZNAME:ADT
DTSTART:20210314T060000
END:DAYLIGHT
BEGIN:STANDARD
TZOFFSETFROM:-0300
TZOFFSETTO:-0400
TZNAME:AST
DTSTART:20211107T050000
END:STANDARD
BEGIN:DAYLIGHT
TZOFFSETFROM:-0400
TZOFFSETTO:-0300
TZNAME:ADT
DTSTART:20220313T060000
END:DAYLIGHT
BEGIN:STANDARD
TZOFFSETFROM:-0300
TZOFFSETTO:-0400
TZNAME:AST
DTSTART:20221106T050000
END:STANDARD
BEGIN:DAYLIGHT
TZOFFSETFROM:-0400
TZOFFSETTO:-0300
TZNAME:ADT
DTSTART:20230312T060000
END:DAYLIGHT
BEGIN:STANDARD
TZOFFSETFROM:-0300
TZOFFSETTO:-0400
TZNAME:AST
DTSTART:20231105T050000
END:STANDARD
END:VTIMEZONE
BEGIN:VEVENT
DTSTART;TZID=Atlantic/Bermuda:20220306T090000
DTEND;TZID=Atlantic/Bermuda:20220306T130000
DTSTAMP:20260426T004141
CREATED:20220302T005456Z
LAST-MODIFIED:20220302T010730Z
UID:9450-1646557200-1646571600@www.bva.bm
SUMMARY:NT Development Tournament
DESCRIPTION:
URL:https://www.bva.bm/event/nt-development-tournament/
LOCATION:Warwick Academy Gym
CATEGORIES:Indoor Tournament
END:VEVENT
BEGIN:VEVENT
DTSTART;TZID=Atlantic/Bermuda:20220313T130000
DTEND;TZID=Atlantic/Bermuda:20220313T170000
DTSTAMP:20260426T004141
CREATED:20220302T005610Z
LAST-MODIFIED:20220309T011002Z
UID:9452-1647176400-1647190800@www.bva.bm
SUMMARY:NT Women's Tournament
DESCRIPTION:
URL:https://www.bva.bm/event/nt-womens-tournament/
LOCATION:Warwick Academy Gym
END:VEVENT
BEGIN:VEVENT
DTSTART;TZID=Atlantic/Bermuda:20220320T130000
DTEND;TZID=Atlantic/Bermuda:20220320T170000
DTSTAMP:20260426T004141
CREATED:20220302T005707Z
LAST-MODIFIED:20220309T011307Z
UID:9454-1647781200-1647795600@www.bva.bm
SUMMARY:NT Men's Tournament
DESCRIPTION:
URL:https://www.bva.bm/event/nt-mens-tournament/
LOCATION:Warwick Academy Gym
CATEGORIES:Competitive Indoor Tournament
END:VEVENT
BEGIN:VEVENT
DTSTART;TZID=Atlantic/Bermuda:20220326T180000
DTEND;TZID=Atlantic/Bermuda:20220326T200000
DTSTAMP:20260426T004141
CREATED:20220302T005150Z
LAST-MODIFIED:20220309T011153Z
UID:9448-1648317600-1648324800@www.bva.bm
SUMMARY:Winter League End of Season Party
DESCRIPTION:
URL:https://www.bva.bm/event/winter-league-end-of-season-party/
CATEGORIES:EOS Party
END:VEVENT
BEGIN:VEVENT
DTSTART;VALUE=DATE:20220328
DTEND;VALUE=DATE:20220402
DTSTAMP:20260426T004141
CREATED:20220302T010134Z
LAST-MODIFIED:20220309T022742Z
UID:9456-1648425600-1648857599@www.bva.bm
SUMMARY:BVA Volleyball Camp (Week 1)
DESCRIPTION:
URL:https://www.bva.bm/event/bva-volleyball-camp-week-1/
CATEGORIES:Camp
END:VEVENT
END:VCALENDAR