BEGIN:VCALENDAR
VERSION:2.0
PRODID:-//Bermuda Volleyball Association - ECPv6.15.20//NONSGML v1.0//EN
CALSCALE:GREGORIAN
METHOD:PUBLISH
X-ORIGINAL-URL:https://www.bva.bm
X-WR-CALDESC:Events for Bermuda Volleyball Association
REFRESH-INTERVAL;VALUE=DURATION:PT1H
X-Robots-Tag:noindex
X-PUBLISHED-TTL:PT1H
BEGIN:VTIMEZONE
TZID:Atlantic/Bermuda
BEGIN:STANDARD
TZOFFSETFROM:-0400
TZOFFSETTO:-0400
TZNAME:AST
DTSTART:19690101T000000
END:STANDARD
END:VTIMEZONE
BEGIN:VEVENT
DTSTART;TZID=Atlantic/Bermuda:20260419T153232
DTEND;TZID=Atlantic/Bermuda:20260419T153232
DTSTAMP:20260419T153232
CREATED:20200811T133205Z
LAST-MODIFIED:20200811T133205Z
UID:8341-0-0@www.bva.bm
SUMMARY:BDA Spirits Coed Beach Tournament #1
DESCRIPTION:Coed Tournament with 2-a-side and 4-a-side divisions
URL:https://www.bva.bm/event/bda-spirits-coed-beach-tournament-1/
CATEGORIES:Beach Tournament
END:VEVENT
BEGIN:VEVENT
DTSTART;TZID=Atlantic/Bermuda:20260419T153232
DTEND;TZID=Atlantic/Bermuda:20260419T153232
DTSTAMP:20260419T153232
CREATED:20200811T133205Z
LAST-MODIFIED:20200811T133205Z
UID:8342-0-0@www.bva.bm
SUMMARY:BDA Spirits Same Sex Beach Tournament #1
DESCRIPTION:Men’s and Women’s Tournament with 2-a-side and 4-a-side divisions
URL:https://www.bva.bm/event/bda-spirits-same-sex-beach-tournament-1/
CATEGORIES:Beach Tournament
END:VEVENT
END:VCALENDAR