BEGIN:VCALENDAR
VERSION:2.0
PRODID:-//Bermuda Volleyball Association - ECPv6.15.20//NONSGML v1.0//EN
CALSCALE:GREGORIAN
METHOD:PUBLISH
X-WR-CALNAME:Bermuda Volleyball Association
X-ORIGINAL-URL:https://www.bva.bm
X-WR-CALDESC:Events for Bermuda Volleyball Association
REFRESH-INTERVAL;VALUE=DURATION:PT1H
X-Robots-Tag:noindex
X-PUBLISHED-TTL:PT1H
BEGIN:VTIMEZONE
TZID:Atlantic/Bermuda
BEGIN:DAYLIGHT
TZOFFSETFROM:-0400
TZOFFSETTO:-0300
TZNAME:ADT
DTSTART:19740428T060000
END:DAYLIGHT
BEGIN:STANDARD
TZOFFSETFROM:-0300
TZOFFSETTO:-0400
TZNAME:AST
DTSTART:19741027T050000
END:STANDARD
BEGIN:DAYLIGHT
TZOFFSETFROM:-0400
TZOFFSETTO:-0300
TZNAME:ADT
DTSTART:19750427T060000
END:DAYLIGHT
BEGIN:STANDARD
TZOFFSETFROM:-0300
TZOFFSETTO:-0400
TZNAME:AST
DTSTART:19751026T050000
END:STANDARD
BEGIN:DAYLIGHT
TZOFFSETFROM:-0400
TZOFFSETTO:-0300
TZNAME:ADT
DTSTART:19760425T060000
END:DAYLIGHT
BEGIN:STANDARD
TZOFFSETFROM:-0300
TZOFFSETTO:-0400
TZNAME:AST
DTSTART:19761031T050000
END:STANDARD
BEGIN:DAYLIGHT
TZOFFSETFROM:-0400
TZOFFSETTO:-0300
TZNAME:ADT
DTSTART:19770424T060000
END:DAYLIGHT
BEGIN:STANDARD
TZOFFSETFROM:-0300
TZOFFSETTO:-0400
TZNAME:AST
DTSTART:19771030T050000
END:STANDARD
BEGIN:DAYLIGHT
TZOFFSETFROM:-0400
TZOFFSETTO:-0300
TZNAME:ADT
DTSTART:19780430T060000
END:DAYLIGHT
BEGIN:STANDARD
TZOFFSETFROM:-0300
TZOFFSETTO:-0400
TZNAME:AST
DTSTART:19781029T050000
END:STANDARD
BEGIN:DAYLIGHT
TZOFFSETFROM:-0400
TZOFFSETTO:-0300
TZNAME:ADT
DTSTART:19790429T060000
END:DAYLIGHT
BEGIN:STANDARD
TZOFFSETFROM:-0300
TZOFFSETTO:-0400
TZNAME:AST
DTSTART:19791028T050000
END:STANDARD
BEGIN:DAYLIGHT
TZOFFSETFROM:-0400
TZOFFSETTO:-0300
TZNAME:ADT
DTSTART:19800427T060000
END:DAYLIGHT
BEGIN:STANDARD
TZOFFSETFROM:-0300
TZOFFSETTO:-0400
TZNAME:AST
DTSTART:19801026T050000
END:STANDARD
BEGIN:DAYLIGHT
TZOFFSETFROM:-0400
TZOFFSETTO:-0300
TZNAME:ADT
DTSTART:19810426T060000
END:DAYLIGHT
BEGIN:STANDARD
TZOFFSETFROM:-0300
TZOFFSETTO:-0400
TZNAME:AST
DTSTART:19811025T050000
END:STANDARD
BEGIN:DAYLIGHT
TZOFFSETFROM:-0400
TZOFFSETTO:-0300
TZNAME:ADT
DTSTART:19820425T060000
END:DAYLIGHT
BEGIN:STANDARD
TZOFFSETFROM:-0300
TZOFFSETTO:-0400
TZNAME:AST
DTSTART:19821031T050000
END:STANDARD
BEGIN:DAYLIGHT
TZOFFSETFROM:-0400
TZOFFSETTO:-0300
TZNAME:ADT
DTSTART:19830424T060000
END:DAYLIGHT
BEGIN:STANDARD
TZOFFSETFROM:-0300
TZOFFSETTO:-0400
TZNAME:AST
DTSTART:19831030T050000
END:STANDARD
BEGIN:DAYLIGHT
TZOFFSETFROM:-0400
TZOFFSETTO:-0300
TZNAME:ADT
DTSTART:19840429T060000
END:DAYLIGHT
BEGIN:STANDARD
TZOFFSETFROM:-0300
TZOFFSETTO:-0400
TZNAME:AST
DTSTART:19841028T050000
END:STANDARD
BEGIN:DAYLIGHT
TZOFFSETFROM:-0400
TZOFFSETTO:-0300
TZNAME:ADT
DTSTART:19850428T060000
END:DAYLIGHT
BEGIN:STANDARD
TZOFFSETFROM:-0300
TZOFFSETTO:-0400
TZNAME:AST
DTSTART:19851027T050000
END:STANDARD
BEGIN:DAYLIGHT
TZOFFSETFROM:-0400
TZOFFSETTO:-0300
TZNAME:ADT
DTSTART:19860427T060000
END:DAYLIGHT
BEGIN:STANDARD
TZOFFSETFROM:-0300
TZOFFSETTO:-0400
TZNAME:AST
DTSTART:19861026T050000
END:STANDARD
BEGIN:DAYLIGHT
TZOFFSETFROM:-0400
TZOFFSETTO:-0300
TZNAME:ADT
DTSTART:19870405T060000
END:DAYLIGHT
BEGIN:STANDARD
TZOFFSETFROM:-0300
TZOFFSETTO:-0400
TZNAME:AST
DTSTART:19871025T050000
END:STANDARD
BEGIN:DAYLIGHT
TZOFFSETFROM:-0400
TZOFFSETTO:-0300
TZNAME:ADT
DTSTART:19880403T060000
END:DAYLIGHT
BEGIN:STANDARD
TZOFFSETFROM:-0300
TZOFFSETTO:-0400
TZNAME:AST
DTSTART:19881030T050000
END:STANDARD
BEGIN:DAYLIGHT
TZOFFSETFROM:-0400
TZOFFSETTO:-0300
TZNAME:ADT
DTSTART:19890402T060000
END:DAYLIGHT
BEGIN:STANDARD
TZOFFSETFROM:-0300
TZOFFSETTO:-0400
TZNAME:AST
DTSTART:19891029T050000
END:STANDARD
BEGIN:DAYLIGHT
TZOFFSETFROM:-0400
TZOFFSETTO:-0300
TZNAME:ADT
DTSTART:19900401T060000
END:DAYLIGHT
BEGIN:STANDARD
TZOFFSETFROM:-0300
TZOFFSETTO:-0400
TZNAME:AST
DTSTART:19901028T050000
END:STANDARD
BEGIN:DAYLIGHT
TZOFFSETFROM:-0400
TZOFFSETTO:-0300
TZNAME:ADT
DTSTART:19910407T060000
END:DAYLIGHT
BEGIN:STANDARD
TZOFFSETFROM:-0300
TZOFFSETTO:-0400
TZNAME:AST
DTSTART:19911027T050000
END:STANDARD
BEGIN:DAYLIGHT
TZOFFSETFROM:-0400
TZOFFSETTO:-0300
TZNAME:ADT
DTSTART:19920405T060000
END:DAYLIGHT
BEGIN:STANDARD
TZOFFSETFROM:-0300
TZOFFSETTO:-0400
TZNAME:AST
DTSTART:19921025T050000
END:STANDARD
BEGIN:DAYLIGHT
TZOFFSETFROM:-0400
TZOFFSETTO:-0300
TZNAME:ADT
DTSTART:19930404T060000
END:DAYLIGHT
BEGIN:STANDARD
TZOFFSETFROM:-0300
TZOFFSETTO:-0400
TZNAME:AST
DTSTART:19931031T050000
END:STANDARD
BEGIN:DAYLIGHT
TZOFFSETFROM:-0400
TZOFFSETTO:-0300
TZNAME:ADT
DTSTART:19940403T060000
END:DAYLIGHT
BEGIN:STANDARD
TZOFFSETFROM:-0300
TZOFFSETTO:-0400
TZNAME:AST
DTSTART:19941030T050000
END:STANDARD
BEGIN:DAYLIGHT
TZOFFSETFROM:-0400
TZOFFSETTO:-0300
TZNAME:ADT
DTSTART:19950402T060000
END:DAYLIGHT
BEGIN:STANDARD
TZOFFSETFROM:-0300
TZOFFSETTO:-0400
TZNAME:AST
DTSTART:19951029T050000
END:STANDARD
BEGIN:DAYLIGHT
TZOFFSETFROM:-0400
TZOFFSETTO:-0300
TZNAME:ADT
DTSTART:19960407T060000
END:DAYLIGHT
BEGIN:STANDARD
TZOFFSETFROM:-0300
TZOFFSETTO:-0400
TZNAME:AST
DTSTART:19961027T050000
END:STANDARD
BEGIN:DAYLIGHT
TZOFFSETFROM:-0400
TZOFFSETTO:-0300
TZNAME:ADT
DTSTART:19970406T060000
END:DAYLIGHT
BEGIN:STANDARD
TZOFFSETFROM:-0300
TZOFFSETTO:-0400
TZNAME:AST
DTSTART:19971026T050000
END:STANDARD
BEGIN:DAYLIGHT
TZOFFSETFROM:-0400
TZOFFSETTO:-0300
TZNAME:ADT
DTSTART:19980405T060000
END:DAYLIGHT
BEGIN:STANDARD
TZOFFSETFROM:-0300
TZOFFSETTO:-0400
TZNAME:AST
DTSTART:19981025T050000
END:STANDARD
BEGIN:DAYLIGHT
TZOFFSETFROM:-0400
TZOFFSETTO:-0300
TZNAME:ADT
DTSTART:19990404T060000
END:DAYLIGHT
BEGIN:STANDARD
TZOFFSETFROM:-0300
TZOFFSETTO:-0400
TZNAME:AST
DTSTART:19991031T050000
END:STANDARD
BEGIN:DAYLIGHT
TZOFFSETFROM:-0400
TZOFFSETTO:-0300
TZNAME:ADT
DTSTART:20000402T060000
END:DAYLIGHT
BEGIN:STANDARD
TZOFFSETFROM:-0300
TZOFFSETTO:-0400
TZNAME:AST
DTSTART:20001029T050000
END:STANDARD
BEGIN:DAYLIGHT
TZOFFSETFROM:-0400
TZOFFSETTO:-0300
TZNAME:ADT
DTSTART:20010401T060000
END:DAYLIGHT
BEGIN:STANDARD
TZOFFSETFROM:-0300
TZOFFSETTO:-0400
TZNAME:AST
DTSTART:20011028T050000
END:STANDARD
BEGIN:DAYLIGHT
TZOFFSETFROM:-0400
TZOFFSETTO:-0300
TZNAME:ADT
DTSTART:20020407T060000
END:DAYLIGHT
BEGIN:STANDARD
TZOFFSETFROM:-0300
TZOFFSETTO:-0400
TZNAME:AST
DTSTART:20021027T050000
END:STANDARD
BEGIN:DAYLIGHT
TZOFFSETFROM:-0400
TZOFFSETTO:-0300
TZNAME:ADT
DTSTART:20030406T060000
END:DAYLIGHT
BEGIN:STANDARD
TZOFFSETFROM:-0300
TZOFFSETTO:-0400
TZNAME:AST
DTSTART:20031026T050000
END:STANDARD
BEGIN:DAYLIGHT
TZOFFSETFROM:-0400
TZOFFSETTO:-0300
TZNAME:ADT
DTSTART:20040404T060000
END:DAYLIGHT
BEGIN:STANDARD
TZOFFSETFROM:-0300
TZOFFSETTO:-0400
TZNAME:AST
DTSTART:20041031T050000
END:STANDARD
BEGIN:DAYLIGHT
TZOFFSETFROM:-0400
TZOFFSETTO:-0300
TZNAME:ADT
DTSTART:20050403T060000
END:DAYLIGHT
BEGIN:STANDARD
TZOFFSETFROM:-0300
TZOFFSETTO:-0400
TZNAME:AST
DTSTART:20051030T050000
END:STANDARD
BEGIN:DAYLIGHT
TZOFFSETFROM:-0400
TZOFFSETTO:-0300
TZNAME:ADT
DTSTART:20060402T060000
END:DAYLIGHT
BEGIN:STANDARD
TZOFFSETFROM:-0300
TZOFFSETTO:-0400
TZNAME:AST
DTSTART:20061029T050000
END:STANDARD
BEGIN:DAYLIGHT
TZOFFSETFROM:-0400
TZOFFSETTO:-0300
TZNAME:ADT
DTSTART:20070311T060000
END:DAYLIGHT
BEGIN:STANDARD
TZOFFSETFROM:-0300
TZOFFSETTO:-0400
TZNAME:AST
DTSTART:20071104T050000
END:STANDARD
BEGIN:DAYLIGHT
TZOFFSETFROM:-0400
TZOFFSETTO:-0300
TZNAME:ADT
DTSTART:20080309T060000
END:DAYLIGHT
BEGIN:STANDARD
TZOFFSETFROM:-0300
TZOFFSETTO:-0400
TZNAME:AST
DTSTART:20081102T050000
END:STANDARD
BEGIN:DAYLIGHT
TZOFFSETFROM:-0400
TZOFFSETTO:-0300
TZNAME:ADT
DTSTART:20090308T060000
END:DAYLIGHT
BEGIN:STANDARD
TZOFFSETFROM:-0300
TZOFFSETTO:-0400
TZNAME:AST
DTSTART:20091101T050000
END:STANDARD
BEGIN:DAYLIGHT
TZOFFSETFROM:-0400
TZOFFSETTO:-0300
TZNAME:ADT
DTSTART:20100314T060000
END:DAYLIGHT
BEGIN:STANDARD
TZOFFSETFROM:-0300
TZOFFSETTO:-0400
TZNAME:AST
DTSTART:20101107T050000
END:STANDARD
BEGIN:DAYLIGHT
TZOFFSETFROM:-0400
TZOFFSETTO:-0300
TZNAME:ADT
DTSTART:20110313T060000
END:DAYLIGHT
BEGIN:STANDARD
TZOFFSETFROM:-0300
TZOFFSETTO:-0400
TZNAME:AST
DTSTART:20111106T050000
END:STANDARD
BEGIN:DAYLIGHT
TZOFFSETFROM:-0400
TZOFFSETTO:-0300
TZNAME:ADT
DTSTART:20120311T060000
END:DAYLIGHT
BEGIN:STANDARD
TZOFFSETFROM:-0300
TZOFFSETTO:-0400
TZNAME:AST
DTSTART:20121104T050000
END:STANDARD
BEGIN:DAYLIGHT
TZOFFSETFROM:-0400
TZOFFSETTO:-0300
TZNAME:ADT
DTSTART:20130310T060000
END:DAYLIGHT
BEGIN:STANDARD
TZOFFSETFROM:-0300
TZOFFSETTO:-0400
TZNAME:AST
DTSTART:20131103T050000
END:STANDARD
BEGIN:DAYLIGHT
TZOFFSETFROM:-0400
TZOFFSETTO:-0300
TZNAME:ADT
DTSTART:20140309T060000
END:DAYLIGHT
BEGIN:STANDARD
TZOFFSETFROM:-0300
TZOFFSETTO:-0400
TZNAME:AST
DTSTART:20141102T050000
END:STANDARD
BEGIN:DAYLIGHT
TZOFFSETFROM:-0400
TZOFFSETTO:-0300
TZNAME:ADT
DTSTART:20150308T060000
END:DAYLIGHT
BEGIN:STANDARD
TZOFFSETFROM:-0300
TZOFFSETTO:-0400
TZNAME:AST
DTSTART:20151101T050000
END:STANDARD
BEGIN:DAYLIGHT
TZOFFSETFROM:-0400
TZOFFSETTO:-0300
TZNAME:ADT
DTSTART:20160313T060000
END:DAYLIGHT
BEGIN:STANDARD
TZOFFSETFROM:-0300
TZOFFSETTO:-0400
TZNAME:AST
DTSTART:20161106T050000
END:STANDARD
BEGIN:DAYLIGHT
TZOFFSETFROM:-0400
TZOFFSETTO:-0300
TZNAME:ADT
DTSTART:20170312T060000
END:DAYLIGHT
BEGIN:STANDARD
TZOFFSETFROM:-0300
TZOFFSETTO:-0400
TZNAME:AST
DTSTART:20171105T050000
END:STANDARD
BEGIN:DAYLIGHT
TZOFFSETFROM:-0400
TZOFFSETTO:-0300
TZNAME:ADT
DTSTART:20180311T060000
END:DAYLIGHT
BEGIN:STANDARD
TZOFFSETFROM:-0300
TZOFFSETTO:-0400
TZNAME:AST
DTSTART:20181104T050000
END:STANDARD
BEGIN:DAYLIGHT
TZOFFSETFROM:-0400
TZOFFSETTO:-0300
TZNAME:ADT
DTSTART:20190310T060000
END:DAYLIGHT
BEGIN:STANDARD
TZOFFSETFROM:-0300
TZOFFSETTO:-0400
TZNAME:AST
DTSTART:20191103T050000
END:STANDARD
BEGIN:DAYLIGHT
TZOFFSETFROM:-0400
TZOFFSETTO:-0300
TZNAME:ADT
DTSTART:20200308T060000
END:DAYLIGHT
BEGIN:STANDARD
TZOFFSETFROM:-0300
TZOFFSETTO:-0400
TZNAME:AST
DTSTART:20201101T050000
END:STANDARD
BEGIN:DAYLIGHT
TZOFFSETFROM:-0400
TZOFFSETTO:-0300
TZNAME:ADT
DTSTART:20210314T060000
END:DAYLIGHT
BEGIN:STANDARD
TZOFFSETFROM:-0300
TZOFFSETTO:-0400
TZNAME:AST
DTSTART:20211107T050000
END:STANDARD
BEGIN:DAYLIGHT
TZOFFSETFROM:-0400
TZOFFSETTO:-0300
TZNAME:ADT
DTSTART:20220313T060000
END:DAYLIGHT
BEGIN:STANDARD
TZOFFSETFROM:-0300
TZOFFSETTO:-0400
TZNAME:AST
DTSTART:20221106T050000
END:STANDARD
END:VTIMEZONE
BEGIN:VEVENT
DTSTART;TZID=Atlantic/Bermuda:20210821T100000
DTEND;TZID=Atlantic/Bermuda:20210821T150000
DTSTAMP:20260419T152100
CREATED:20210510T235213Z
LAST-MODIFIED:20210517T171935Z
UID:9080-1629540000-1629558000@www.bva.bm
SUMMARY:BDA Spirits Same Sex Beach Tournament #2
DESCRIPTION:Men’s and Women’s Tournament with 2-a-side and 4-a-side divisions. Sponsored by BDA Spirits.
URL:https://www.bva.bm/event/bda-spirits-same-sex-beach-tournament-2-3/
LOCATION:Horseshoe Bay Beach\, South Road\, Southampton\, Bermuda
CATEGORIES:Beach Tournament
END:VEVENT
BEGIN:VEVENT
DTSTART;TZID=Atlantic/Bermuda:20210807T100000
DTEND;TZID=Atlantic/Bermuda:20210807T150000
DTSTAMP:20260419T152100
CREATED:20210510T235213Z
LAST-MODIFIED:20210517T171644Z
UID:9079-1628330400-1628348400@www.bva.bm
SUMMARY:BDA Spirits Coed Beach Tournament #2
DESCRIPTION:Coed Tournament with 2-a-side and 4-a-side divisions. Sponsored by BDA Spirits.
URL:https://www.bva.bm/event/bda-spirits-coed-beach-tournament-2-3/
LOCATION:Horseshoe Bay Beach\, South Road\, Southampton\, Bermuda
CATEGORIES:Beach Tournament
END:VEVENT
BEGIN:VEVENT
DTSTART;TZID=Atlantic/Bermuda:20210724T100000
DTEND;TZID=Atlantic/Bermuda:20210724T150000
DTSTAMP:20260419T152100
CREATED:20210510T235213Z
LAST-MODIFIED:20210510T235213Z
UID:9078-1627120800-1627138800@www.bva.bm
SUMMARY:BDA Spirits Same Sex Beach Tournament #1
DESCRIPTION:Men’s and Women’s Tournament with 2-a-side and 4-a-side divisions. Sponsored by BDA Spirits.
URL:https://www.bva.bm/event/bda-spirits-same-sex-beach-tournament-1-4/
LOCATION:Horseshoe Bay Beach\, South Road\, Southampton\, Bermuda
CATEGORIES:Beach Tournament
END:VEVENT
BEGIN:VEVENT
DTSTART;TZID=Atlantic/Bermuda:20210703T100000
DTEND;TZID=Atlantic/Bermuda:20210703T150000
DTSTAMP:20260419T152100
CREATED:20210510T235211Z
LAST-MODIFIED:20210510T235211Z
UID:9077-1625306400-1625324400@www.bva.bm
SUMMARY:BDA Spirits Coed Beach Tournament #1
DESCRIPTION:Coed Tournament with 2-a-side and 4-a-side divisions.  Sponsored by BDA Spirits.
URL:https://www.bva.bm/event/bda-spirits-coed-beach-tournament-1-4/
LOCATION:Horseshoe Bay Beach\, South Road\, Southampton\, Bermuda
CATEGORIES:Beach Tournament
END:VEVENT
BEGIN:VEVENT
DTSTART;TZID=Atlantic/Bermuda:20200912T100000
DTEND;TZID=Atlantic/Bermuda:20200912T150000
DTSTAMP:20260419T152100
CREATED:20200811T144531Z
LAST-MODIFIED:20201201T174921Z
UID:8365-1599904800-1599922800@www.bva.bm
SUMMARY:Cassine Coed Beach Tournament
DESCRIPTION:Coed Tournament with 2-a-side and 4-a-side divisions
URL:https://www.bva.bm/event/bva-beach-blast-3/
LOCATION:Horseshoe Bay Beach\, South Road\, Southampton\, Bermuda
CATEGORIES:Beach Tournament
END:VEVENT
BEGIN:VEVENT
DTSTART;TZID=Atlantic/Bermuda:20200829T100000
DTEND;TZID=Atlantic/Bermuda:20200829T150000
DTSTAMP:20260419T152100
CREATED:20200811T144531Z
LAST-MODIFIED:20201201T174921Z
UID:8364-1598695200-1598713200@www.bva.bm
SUMMARY:BDA Spirits Same Sex Beach Tournament #2
DESCRIPTION:Men’s and Women’s Tournament with 2-a-side and 4-a-side divisions. Sponsored by BDA Spirits.
URL:https://www.bva.bm/event/bda-spirits-same-sex-beach-tournament-2-2/
LOCATION:Horseshoe Bay Beach\, South Road\, Southampton\, Bermuda
CATEGORIES:Beach Tournament
END:VEVENT
BEGIN:VEVENT
DTSTART;TZID=Atlantic/Bermuda:20200808T100000
DTEND;TZID=Atlantic/Bermuda:20200808T150000
DTSTAMP:20260419T152100
CREATED:20200811T133206Z
LAST-MODIFIED:20201201T174921Z
UID:8343-1596880800-1596898800@www.bva.bm
SUMMARY:BDA Spirits Coed Beach Tournament #2
DESCRIPTION:Coed Tournament with 2-a-side and 4-a-side divisions.  Sponsored by BDA Spirits.
URL:https://www.bva.bm/event/bda-spirits-coed-beach-tournament-2/
LOCATION:Horseshoe Bay Beach\, South Road\, Southampton\, Bermuda
CATEGORIES:Beach Tournament
END:VEVENT
BEGIN:VEVENT
DTSTART;TZID=Atlantic/Bermuda:20200725T100000
DTEND;TZID=Atlantic/Bermuda:20200725T150000
DTSTAMP:20260419T152100
CREATED:20200811T144530Z
LAST-MODIFIED:20201201T174921Z
UID:8362-1595671200-1595689200@www.bva.bm
SUMMARY:BDA Spirits Same Sex Beach Tournament #1
DESCRIPTION:Men’s and Women’s Tournament with 2-a-side and 4-a-side divisions. Sponsored by BDA Spirits.
URL:https://www.bva.bm/event/bda-spirits-same-sex-beach-tournament-1-3/
LOCATION:Horseshoe Bay Beach\, South Road\, Southampton\, Bermuda
CATEGORIES:Beach Tournament
END:VEVENT
BEGIN:VEVENT
DTSTART;TZID=Atlantic/Bermuda:20200725T100000
DTEND;TZID=Atlantic/Bermuda:20200725T100000
DTSTAMP:20260419T152100
CREATED:20200811T134905Z
LAST-MODIFIED:20200811T134905Z
UID:8354-1595671200-1595671200@www.bva.bm
SUMMARY:BDA Spirits Same Sex Beach Tournament #1
DESCRIPTION:Men’s and Women’s Tournament with 2-a-side and 4-a-side divisions. Sponsored by BDA Spirits.
URL:https://www.bva.bm/event/bda-spirits-same-sex-beach-tournament-1-2/
LOCATION:Horseshoe Bay Beach\, South Road\, Southampton\, Bermuda
CATEGORIES:Beach Tournament
END:VEVENT
BEGIN:VEVENT
DTSTART;TZID=Atlantic/Bermuda:20200711T100000
DTEND;TZID=Atlantic/Bermuda:20200711T150000
DTSTAMP:20260419T152100
CREATED:20200811T144530Z
LAST-MODIFIED:20201201T174921Z
UID:8361-1594461600-1594479600@www.bva.bm
SUMMARY:BDA Spirits Coed Beach Tournament #1
DESCRIPTION:Coed Tournament with 2-a-side and 4-a-side divisions.  Sponsored by BDA Spirits.
URL:https://www.bva.bm/event/bda-spirits-coed-beach-tournament-1-3/
LOCATION:Horseshoe Bay Beach\, South Road\, Southampton\, Bermuda
CATEGORIES:Beach Tournament
END:VEVENT
BEGIN:VEVENT
DTSTART;TZID=Atlantic/Bermuda:20200711T100000
DTEND;TZID=Atlantic/Bermuda:20200711T100000
DTSTAMP:20260419T152100
CREATED:20200811T134905Z
LAST-MODIFIED:20200811T134905Z
UID:8353-1594461600-1594461600@www.bva.bm
SUMMARY:BDA Spirits Coed Beach Tournament #1
DESCRIPTION:Coed Tournament with 2-a-side and 4-a-side divisions.  Sponsored by BDA Spirits.
URL:https://www.bva.bm/event/bda-spirits-coed-beach-tournament-1-2/
LOCATION:Horseshoe Bay Beach\, South Road\, Southampton\, Bermuda
CATEGORIES:Beach Tournament
END:VEVENT
BEGIN:VEVENT
DTSTART;TZID=Atlantic/Bermuda:20260419T152100
DTEND;TZID=Atlantic/Bermuda:20260419T152100
DTSTAMP:20260419T152100
CREATED:20200811T133206Z
LAST-MODIFIED:20200811T133206Z
UID:8345-0-0@www.bva.bm
SUMMARY:BVA Beach Blast
DESCRIPTION:Coed Tournament with 2-a-side and 4-a-side divisions
URL:https://www.bva.bm/event/bva-beach-blast/
CATEGORIES:Beach Tournament
END:VEVENT
BEGIN:VEVENT
DTSTART;TZID=Atlantic/Bermuda:20260419T152100
DTEND;TZID=Atlantic/Bermuda:20260419T152100
DTSTAMP:20260419T152100
CREATED:20200811T133205Z
LAST-MODIFIED:20200811T133205Z
UID:8341-0-0@www.bva.bm
SUMMARY:BDA Spirits Coed Beach Tournament #1
DESCRIPTION:Coed Tournament with 2-a-side and 4-a-side divisions
URL:https://www.bva.bm/event/bda-spirits-coed-beach-tournament-1/
CATEGORIES:Beach Tournament
END:VEVENT
BEGIN:VEVENT
DTSTART;TZID=Atlantic/Bermuda:20260419T152100
DTEND;TZID=Atlantic/Bermuda:20260419T152100
DTSTAMP:20260419T152100
CREATED:20200811T133205Z
LAST-MODIFIED:20200811T133205Z
UID:8342-0-0@www.bva.bm
SUMMARY:BDA Spirits Same Sex Beach Tournament #1
DESCRIPTION:Men’s and Women’s Tournament with 2-a-side and 4-a-side divisions
URL:https://www.bva.bm/event/bda-spirits-same-sex-beach-tournament-1/
CATEGORIES:Beach Tournament
END:VEVENT
END:VCALENDAR