BEGIN:VCALENDAR
VERSION:2.0
PRODID:-//Bermuda Volleyball Association - ECPv6.15.20//NONSGML v1.0//EN
CALSCALE:GREGORIAN
METHOD:PUBLISH
X-WR-CALNAME:Bermuda Volleyball Association
X-ORIGINAL-URL:https://www.bva.bm
X-WR-CALDESC:Events for Bermuda Volleyball Association
REFRESH-INTERVAL;VALUE=DURATION:PT1H
X-Robots-Tag:noindex
X-PUBLISHED-TTL:PT1H
BEGIN:VTIMEZONE
TZID:Atlantic/Bermuda
BEGIN:DAYLIGHT
TZOFFSETFROM:-0400
TZOFFSETTO:-0300
TZNAME:ADT
DTSTART:20220313T060000
END:DAYLIGHT
BEGIN:STANDARD
TZOFFSETFROM:-0300
TZOFFSETTO:-0400
TZNAME:AST
DTSTART:20221106T050000
END:STANDARD
BEGIN:DAYLIGHT
TZOFFSETFROM:-0400
TZOFFSETTO:-0300
TZNAME:ADT
DTSTART:20230312T060000
END:DAYLIGHT
BEGIN:STANDARD
TZOFFSETFROM:-0300
TZOFFSETTO:-0400
TZNAME:AST
DTSTART:20231105T050000
END:STANDARD
BEGIN:DAYLIGHT
TZOFFSETFROM:-0400
TZOFFSETTO:-0300
TZNAME:ADT
DTSTART:20240310T060000
END:DAYLIGHT
BEGIN:STANDARD
TZOFFSETFROM:-0300
TZOFFSETTO:-0400
TZNAME:AST
DTSTART:20241103T050000
END:STANDARD
END:VTIMEZONE
BEGIN:VEVENT
DTSTART;TZID=Atlantic/Bermuda:20230408T080000
DTEND;TZID=Atlantic/Bermuda:20230408T100000
DTSTAMP:20260420T173154
CREATED:20221011T143939Z
LAST-MODIFIED:20221011T143939Z
UID:10903-1680940800-1680948000@www.bva.bm
SUMMARY:WNT training
DESCRIPTION:
URL:https://www.bva.bm/event/wnt-training-26/
LOCATION:MSA Gym
END:VEVENT
BEGIN:VEVENT
DTSTART;TZID=Atlantic/Bermuda:20230408T083000
DTEND;TZID=Atlantic/Bermuda:20230408T120000
DTSTAMP:20260420T173154
CREATED:20221011T143453Z
LAST-MODIFIED:20221011T143511Z
UID:10537-1680942600-1680955200@www.bva.bm
SUMMARY:Boys Training
DESCRIPTION:
URL:https://www.bva.bm/event/boys-training-45/
LOCATION:Warwick Acadmey
END:VEVENT
BEGIN:VEVENT
DTSTART;TZID=Atlantic/Bermuda:20230408T100000
DTEND;TZID=Atlantic/Bermuda:20230408T120000
DTSTAMP:20260420T173154
CREATED:20221011T143939Z
LAST-MODIFIED:20221011T143939Z
UID:10902-1680948000-1680955200@www.bva.bm
SUMMARY:U18 Girls Training
DESCRIPTION:
URL:https://www.bva.bm/event/u18-girls-training-30/
LOCATION:MSA Gym
END:VEVENT
BEGIN:VEVENT
DTSTART;TZID=Atlantic/Bermuda:20230408T120000
DTEND;TZID=Atlantic/Bermuda:20230408T140000
DTSTAMP:20260420T173154
CREATED:20221011T143441Z
LAST-MODIFIED:20221011T143511Z
UID:10526-1680955200-1680962400@www.bva.bm
SUMMARY:U16 Girls Training
DESCRIPTION:
URL:https://www.bva.bm/event/u16-girls-training-45/
LOCATION:Warwick Academy
END:VEVENT
END:VCALENDAR