BEGIN:VCALENDAR
VERSION:2.0
PRODID:-//Bermuda Volleyball Association - ECPv6.15.20//NONSGML v1.0//EN
CALSCALE:GREGORIAN
METHOD:PUBLISH
X-ORIGINAL-URL:https://www.bva.bm
X-WR-CALDESC:Events for Bermuda Volleyball Association
REFRESH-INTERVAL;VALUE=DURATION:PT1H
X-Robots-Tag:noindex
X-PUBLISHED-TTL:PT1H
BEGIN:VTIMEZONE
TZID:Atlantic/Bermuda
BEGIN:DAYLIGHT
TZOFFSETFROM:-0400
TZOFFSETTO:-0300
TZNAME:ADT
DTSTART:20220313T060000
END:DAYLIGHT
BEGIN:STANDARD
TZOFFSETFROM:-0300
TZOFFSETTO:-0400
TZNAME:AST
DTSTART:20221106T050000
END:STANDARD
BEGIN:DAYLIGHT
TZOFFSETFROM:-0400
TZOFFSETTO:-0300
TZNAME:ADT
DTSTART:20230312T060000
END:DAYLIGHT
BEGIN:STANDARD
TZOFFSETFROM:-0300
TZOFFSETTO:-0400
TZNAME:AST
DTSTART:20231105T050000
END:STANDARD
BEGIN:DAYLIGHT
TZOFFSETFROM:-0400
TZOFFSETTO:-0300
TZNAME:ADT
DTSTART:20240310T060000
END:DAYLIGHT
BEGIN:STANDARD
TZOFFSETFROM:-0300
TZOFFSETTO:-0400
TZNAME:AST
DTSTART:20241103T050000
END:STANDARD
END:VTIMEZONE
BEGIN:VEVENT
DTSTART;TZID=Atlantic/Bermuda:20230330T090000
DTEND;TZID=Atlantic/Bermuda:20230330T150000
DTSTAMP:20260420T154350
CREATED:20221011T143440Z
LAST-MODIFIED:20221011T143510Z
UID:10510-1680166800-1680188400@www.bva.bm
SUMMARY:Spring Break Volleyball Camp - Week 1
DESCRIPTION:
URL:https://www.bva.bm/event/spring-break-volleyball-camp-week-1-4/
END:VEVENT
BEGIN:VEVENT
DTSTART;TZID=Atlantic/Bermuda:20230330T180000
DTEND;TZID=Atlantic/Bermuda:20230330T200000
DTSTAMP:20260420T154350
CREATED:20221011T143440Z
LAST-MODIFIED:20221011T143510Z
UID:10511-1680199200-1680206400@www.bva.bm
SUMMARY:U14 Girls Training
DESCRIPTION:………………………………………………………………………………………………………………………..\nJoin online meeting\n………………………………………………………………………………………………………………………..
URL:https://www.bva.bm/event/u14-girls-training-22/
LOCATION:Warwick Gym
END:VEVENT
BEGIN:VEVENT
DTSTART;TZID=Atlantic/Bermuda:20230330T200000
DTEND;TZID=Atlantic/Bermuda:20230330T220000
DTSTAMP:20260420T154350
CREATED:20221011T143939Z
LAST-MODIFIED:20221011T143939Z
UID:10896-1680206400-1680213600@www.bva.bm
SUMMARY:WNT Training
DESCRIPTION:
URL:https://www.bva.bm/event/wnt-training-23/
LOCATION:MSA Gym
END:VEVENT
END:VCALENDAR