BEGIN:VCALENDAR
VERSION:2.0
PRODID:-//Bermuda Volleyball Association - ECPv6.15.20//NONSGML v1.0//EN
CALSCALE:GREGORIAN
METHOD:PUBLISH
X-ORIGINAL-URL:https://www.bva.bm
X-WR-CALDESC:Events for Bermuda Volleyball Association
REFRESH-INTERVAL;VALUE=DURATION:PT1H
X-Robots-Tag:noindex
X-PUBLISHED-TTL:PT1H
BEGIN:VTIMEZONE
TZID:Atlantic/Bermuda
BEGIN:DAYLIGHT
TZOFFSETFROM:-0400
TZOFFSETTO:-0300
TZNAME:ADT
DTSTART:20220313T060000
END:DAYLIGHT
BEGIN:STANDARD
TZOFFSETFROM:-0300
TZOFFSETTO:-0400
TZNAME:AST
DTSTART:20221106T050000
END:STANDARD
BEGIN:DAYLIGHT
TZOFFSETFROM:-0400
TZOFFSETTO:-0300
TZNAME:ADT
DTSTART:20230312T060000
END:DAYLIGHT
BEGIN:STANDARD
TZOFFSETFROM:-0300
TZOFFSETTO:-0400
TZNAME:AST
DTSTART:20231105T050000
END:STANDARD
BEGIN:DAYLIGHT
TZOFFSETFROM:-0400
TZOFFSETTO:-0300
TZNAME:ADT
DTSTART:20240310T060000
END:DAYLIGHT
BEGIN:STANDARD
TZOFFSETFROM:-0300
TZOFFSETTO:-0400
TZNAME:AST
DTSTART:20241103T050000
END:STANDARD
END:VTIMEZONE
BEGIN:VEVENT
DTSTART;TZID=Atlantic/Bermuda:20230313T180000
DTEND;TZID=Atlantic/Bermuda:20230313T200000
DTSTAMP:20260420T192028
CREATED:20221011T143938Z
LAST-MODIFIED:20221011T143938Z
UID:10888-1678730400-1678737600@www.bva.bm
SUMMARY:U18 Girls Training
DESCRIPTION:
URL:https://www.bva.bm/event/u18-girls-training-25/
LOCATION:MSA Gym
END:VEVENT
BEGIN:VEVENT
DTSTART;TZID=Atlantic/Bermuda:20230313T180000
DTEND;TZID=Atlantic/Bermuda:20230313T213000
DTSTAMP:20260420T192028
CREATED:20221011T143438Z
LAST-MODIFIED:20221011T143508Z
UID:10485-1678730400-1678743000@www.bva.bm
SUMMARY:Boys Training
DESCRIPTION:………………………………………………………………………………………………………………………..\nJoin online meeting\n………………………………………………………………………………………………………………………..
URL:https://www.bva.bm/event/boys-training-39/
LOCATION:Warwick Academy
END:VEVENT
BEGIN:VEVENT
DTSTART;TZID=Atlantic/Bermuda:20230313T200000
DTEND;TZID=Atlantic/Bermuda:20230313T220000
DTSTAMP:20260420T192028
CREATED:20221011T143938Z
LAST-MODIFIED:20221011T143938Z
UID:10887-1678737600-1678744800@www.bva.bm
SUMMARY:WNT training
DESCRIPTION:
URL:https://www.bva.bm/event/wnt-training-18/
LOCATION:MSA Gym
END:VEVENT
END:VCALENDAR