BEGIN:VCALENDAR
VERSION:2.0
PRODID:-//Bermuda Volleyball Association - ECPv6.15.20//NONSGML v1.0//EN
CALSCALE:GREGORIAN
METHOD:PUBLISH
X-ORIGINAL-URL:https://www.bva.bm
X-WR-CALDESC:Events for Bermuda Volleyball Association
REFRESH-INTERVAL;VALUE=DURATION:PT1H
X-Robots-Tag:noindex
X-PUBLISHED-TTL:PT1H
BEGIN:VTIMEZONE
TZID:Atlantic/Bermuda
BEGIN:DAYLIGHT
TZOFFSETFROM:-0400
TZOFFSETTO:-0300
TZNAME:ADT
DTSTART:20220313T060000
END:DAYLIGHT
BEGIN:STANDARD
TZOFFSETFROM:-0300
TZOFFSETTO:-0400
TZNAME:AST
DTSTART:20221106T050000
END:STANDARD
BEGIN:DAYLIGHT
TZOFFSETFROM:-0400
TZOFFSETTO:-0300
TZNAME:ADT
DTSTART:20230312T060000
END:DAYLIGHT
BEGIN:STANDARD
TZOFFSETFROM:-0300
TZOFFSETTO:-0400
TZNAME:AST
DTSTART:20231105T050000
END:STANDARD
BEGIN:DAYLIGHT
TZOFFSETFROM:-0400
TZOFFSETTO:-0300
TZNAME:ADT
DTSTART:20240310T060000
END:DAYLIGHT
BEGIN:STANDARD
TZOFFSETFROM:-0300
TZOFFSETTO:-0400
TZNAME:AST
DTSTART:20241103T050000
END:STANDARD
END:VTIMEZONE
BEGIN:VEVENT
DTSTART;TZID=Atlantic/Bermuda:20230312T080000
DTEND;TZID=Atlantic/Bermuda:20230312T100000
DTSTAMP:20260420T173528
CREATED:20221011T143438Z
LAST-MODIFIED:20221011T143508Z
UID:10482-1678608000-1678615200@www.bva.bm
SUMMARY:MNT Training
DESCRIPTION:
URL:https://www.bva.bm/event/mnt-training-18/
LOCATION:Warwick Gym
END:VEVENT
BEGIN:VEVENT
DTSTART;TZID=Atlantic/Bermuda:20230312T093000
DTEND;TZID=Atlantic/Bermuda:20230312T113000
DTSTAMP:20260420T173528
CREATED:20221011T143938Z
LAST-MODIFIED:20221011T143938Z
UID:10886-1678613400-1678620600@www.bva.bm
SUMMARY:U14 Girls Training
DESCRIPTION:
URL:https://www.bva.bm/event/u14-girls-training-41/
LOCATION:MSA Gym
END:VEVENT
BEGIN:VEVENT
DTSTART;TZID=Atlantic/Bermuda:20230312T100000
DTEND;TZID=Atlantic/Bermuda:20230312T113000
DTSTAMP:20260420T173528
CREATED:20221011T143438Z
LAST-MODIFIED:20221011T143508Z
UID:10483-1678615200-1678620600@www.bva.bm
SUMMARY:U11 Girls Training
DESCRIPTION:………………………………………………………………………………………………………………………..\nJoin online meeting\n………………………………………………………………………………………………………………………..
URL:https://www.bva.bm/event/u11-girls-training-37/
LOCATION:Warwick Gym
END:VEVENT
BEGIN:VEVENT
DTSTART;TZID=Atlantic/Bermuda:20230312T120000
DTEND;TZID=Atlantic/Bermuda:20230312T140000
DTSTAMP:20260420T173528
CREATED:20221011T143438Z
LAST-MODIFIED:20221011T143508Z
UID:10484-1678622400-1678629600@www.bva.bm
SUMMARY:U13 Girls Training
DESCRIPTION:
URL:https://www.bva.bm/event/u13-girls-training-38/
LOCATION:Warwick Gym
END:VEVENT
END:VCALENDAR