BEGIN:VCALENDAR
VERSION:2.0
PRODID:-//Bermuda Volleyball Association - ECPv6.15.20//NONSGML v1.0//EN
CALSCALE:GREGORIAN
METHOD:PUBLISH
X-WR-CALNAME:Bermuda Volleyball Association
X-ORIGINAL-URL:https://www.bva.bm
X-WR-CALDESC:Events for Bermuda Volleyball Association
REFRESH-INTERVAL;VALUE=DURATION:PT1H
X-Robots-Tag:noindex
X-PUBLISHED-TTL:PT1H
BEGIN:VTIMEZONE
TZID:Atlantic/Bermuda
BEGIN:DAYLIGHT
TZOFFSETFROM:-0400
TZOFFSETTO:-0300
TZNAME:ADT
DTSTART:20220313T060000
END:DAYLIGHT
BEGIN:STANDARD
TZOFFSETFROM:-0300
TZOFFSETTO:-0400
TZNAME:AST
DTSTART:20221106T050000
END:STANDARD
BEGIN:DAYLIGHT
TZOFFSETFROM:-0400
TZOFFSETTO:-0300
TZNAME:ADT
DTSTART:20230312T060000
END:DAYLIGHT
BEGIN:STANDARD
TZOFFSETFROM:-0300
TZOFFSETTO:-0400
TZNAME:AST
DTSTART:20231105T050000
END:STANDARD
BEGIN:DAYLIGHT
TZOFFSETFROM:-0400
TZOFFSETTO:-0300
TZNAME:ADT
DTSTART:20240310T060000
END:DAYLIGHT
BEGIN:STANDARD
TZOFFSETFROM:-0300
TZOFFSETTO:-0400
TZNAME:AST
DTSTART:20241103T050000
END:STANDARD
END:VTIMEZONE
BEGIN:VEVENT
DTSTART;TZID=Atlantic/Bermuda:20230311T080000
DTEND;TZID=Atlantic/Bermuda:20230311T100000
DTSTAMP:20260420T173249
CREATED:20221011T143938Z
LAST-MODIFIED:20221011T143938Z
UID:10885-1678521600-1678528800@www.bva.bm
SUMMARY:U18 Girls Training
DESCRIPTION:
URL:https://www.bva.bm/event/u18-girls-training-24/
LOCATION:MSA Gym
END:VEVENT
BEGIN:VEVENT
DTSTART;TZID=Atlantic/Bermuda:20230311T083000
DTEND;TZID=Atlantic/Bermuda:20230311T120000
DTSTAMP:20260420T173249
CREATED:20221011T143438Z
LAST-MODIFIED:20221011T143508Z
UID:10481-1678523400-1678536000@www.bva.bm
SUMMARY:Boys Training
DESCRIPTION:
URL:https://www.bva.bm/event/boys-training-38/
LOCATION:Warwick Acadmey
END:VEVENT
BEGIN:VEVENT
DTSTART;TZID=Atlantic/Bermuda:20230311T120000
DTEND;TZID=Atlantic/Bermuda:20230311T140000
DTSTAMP:20260420T173249
CREATED:20221011T143438Z
LAST-MODIFIED:20221011T143507Z
UID:10480-1678536000-1678543200@www.bva.bm
SUMMARY:U16 Girls Training
DESCRIPTION:
URL:https://www.bva.bm/event/u16-girls-training-38/
LOCATION:Warwick Academy
END:VEVENT
BEGIN:VEVENT
DTSTART;TZID=Atlantic/Bermuda:20230311T180000
DTEND;TZID=Atlantic/Bermuda:20230311T220000
DTSTAMP:20260420T173249
CREATED:20221011T142622Z
LAST-MODIFIED:20221011T142623Z
UID:10217-1678557600-1678572000@www.bva.bm
SUMMARY:Winter League EOS Party
DESCRIPTION:
URL:https://www.bva.bm/event/winter-league-eos-party/
LOCATION:Docksiders Pub\, Back Room
END:VEVENT
END:VCALENDAR