BEGIN:VCALENDAR
VERSION:2.0
PRODID:-//Bermuda Volleyball Association - ECPv6.15.20//NONSGML v1.0//EN
CALSCALE:GREGORIAN
METHOD:PUBLISH
X-WR-CALNAME:Bermuda Volleyball Association
X-ORIGINAL-URL:https://www.bva.bm
X-WR-CALDESC:Events for Bermuda Volleyball Association
REFRESH-INTERVAL;VALUE=DURATION:PT1H
X-Robots-Tag:noindex
X-PUBLISHED-TTL:PT1H
BEGIN:VTIMEZONE
TZID:Atlantic/Bermuda
BEGIN:DAYLIGHT
TZOFFSETFROM:-0400
TZOFFSETTO:-0300
TZNAME:ADT
DTSTART:20220313T060000
END:DAYLIGHT
BEGIN:STANDARD
TZOFFSETFROM:-0300
TZOFFSETTO:-0400
TZNAME:AST
DTSTART:20221106T050000
END:STANDARD
BEGIN:DAYLIGHT
TZOFFSETFROM:-0400
TZOFFSETTO:-0300
TZNAME:ADT
DTSTART:20230312T060000
END:DAYLIGHT
BEGIN:STANDARD
TZOFFSETFROM:-0300
TZOFFSETTO:-0400
TZNAME:AST
DTSTART:20231105T050000
END:STANDARD
BEGIN:DAYLIGHT
TZOFFSETFROM:-0400
TZOFFSETTO:-0300
TZNAME:ADT
DTSTART:20240310T060000
END:DAYLIGHT
BEGIN:STANDARD
TZOFFSETFROM:-0300
TZOFFSETTO:-0400
TZNAME:AST
DTSTART:20241103T050000
END:STANDARD
END:VTIMEZONE
BEGIN:VEVENT
DTSTART;VALUE=DATE:20230303
DTEND;VALUE=DATE:20230306
DTSTAMP:20260420T173152
CREATED:20221011T144126Z
LAST-MODIFIED:20221011T144126Z
UID:10916-1677801600-1678060799@www.bva.bm
SUMMARY:Nike Volleyball Festival - Weekend #2
DESCRIPTION:
URL:https://www.bva.bm/event/nike-volleyball-festival-weekend-2/
END:VEVENT
BEGIN:VEVENT
DTSTART;TZID=Atlantic/Bermuda:20230305T080000
DTEND;TZID=Atlantic/Bermuda:20230305T100000
DTSTAMP:20260420T173152
CREATED:20221011T143437Z
LAST-MODIFIED:20221011T143507Z
UID:10462-1678003200-1678010400@www.bva.bm
SUMMARY:MNT Training
DESCRIPTION:
URL:https://www.bva.bm/event/mnt-training-16/
LOCATION:Warwick Gym
END:VEVENT
BEGIN:VEVENT
DTSTART;TZID=Atlantic/Bermuda:20230305T093000
DTEND;TZID=Atlantic/Bermuda:20230305T113000
DTSTAMP:20260420T173152
CREATED:20221011T143938Z
LAST-MODIFIED:20221011T143938Z
UID:10883-1678008600-1678015800@www.bva.bm
SUMMARY:U14 Girls Training
DESCRIPTION:
URL:https://www.bva.bm/event/u14-girls-training-40/
LOCATION:MSA Gym
END:VEVENT
BEGIN:VEVENT
DTSTART;TZID=Atlantic/Bermuda:20230305T100000
DTEND;TZID=Atlantic/Bermuda:20230305T113000
DTSTAMP:20260420T173152
CREATED:20221011T143437Z
LAST-MODIFIED:20221011T143507Z
UID:10461-1678010400-1678015800@www.bva.bm
SUMMARY:U11 Girls Training
DESCRIPTION:………………………………………………………………………………………………………………………..\nJoin online meeting\n………………………………………………………………………………………………………………………..
URL:https://www.bva.bm/event/u11-girls-training-35/
LOCATION:Warwick Gym
END:VEVENT
BEGIN:VEVENT
DTSTART;TZID=Atlantic/Bermuda:20230305T120000
DTEND;TZID=Atlantic/Bermuda:20230305T140000
DTSTAMP:20260420T173152
CREATED:20221011T143437Z
LAST-MODIFIED:20221011T143507Z
UID:10464-1678017600-1678024800@www.bva.bm
SUMMARY:U13 Girls Training
DESCRIPTION:
URL:https://www.bva.bm/event/u13-girls-training-36/
LOCATION:Warwick Gym
END:VEVENT
END:VCALENDAR