BEGIN:VCALENDAR
VERSION:2.0
PRODID:-//Bermuda Volleyball Association - ECPv6.15.20//NONSGML v1.0//EN
CALSCALE:GREGORIAN
METHOD:PUBLISH
X-WR-CALNAME:Bermuda Volleyball Association
X-ORIGINAL-URL:https://www.bva.bm
X-WR-CALDESC:Events for Bermuda Volleyball Association
REFRESH-INTERVAL;VALUE=DURATION:PT1H
X-Robots-Tag:noindex
X-PUBLISHED-TTL:PT1H
BEGIN:VTIMEZONE
TZID:Atlantic/Bermuda
BEGIN:DAYLIGHT
TZOFFSETFROM:-0400
TZOFFSETTO:-0300
TZNAME:ADT
DTSTART:20220313T060000
END:DAYLIGHT
BEGIN:STANDARD
TZOFFSETFROM:-0300
TZOFFSETTO:-0400
TZNAME:AST
DTSTART:20221106T050000
END:STANDARD
BEGIN:DAYLIGHT
TZOFFSETFROM:-0400
TZOFFSETTO:-0300
TZNAME:ADT
DTSTART:20230312T060000
END:DAYLIGHT
BEGIN:STANDARD
TZOFFSETFROM:-0300
TZOFFSETTO:-0400
TZNAME:AST
DTSTART:20231105T050000
END:STANDARD
BEGIN:DAYLIGHT
TZOFFSETFROM:-0400
TZOFFSETTO:-0300
TZNAME:ADT
DTSTART:20240310T060000
END:DAYLIGHT
BEGIN:STANDARD
TZOFFSETFROM:-0300
TZOFFSETTO:-0400
TZNAME:AST
DTSTART:20241103T050000
END:STANDARD
END:VTIMEZONE
BEGIN:VEVENT
DTSTART;VALUE=DATE:20230219
DTEND;VALUE=DATE:20230220
DTSTAMP:20260420T191057
CREATED:20221011T144126Z
LAST-MODIFIED:20221011T144126Z
UID:10914-1676764800-1676851199@www.bva.bm
SUMMARY:BVA Men's Indoor Tournament
DESCRIPTION:
URL:https://www.bva.bm/event/bva-mens-indoor-tournament/
END:VEVENT
BEGIN:VEVENT
DTSTART;TZID=Atlantic/Bermuda:20230219T080000
DTEND;TZID=Atlantic/Bermuda:20230219T100000
DTSTAMP:20260420T191057
CREATED:20221011T143435Z
LAST-MODIFIED:20221011T143505Z
UID:10437-1676793600-1676800800@www.bva.bm
SUMMARY:MNT Training
DESCRIPTION:
URL:https://www.bva.bm/event/mnt-training-12/
LOCATION:Warwick Gym
END:VEVENT
BEGIN:VEVENT
DTSTART;TZID=Atlantic/Bermuda:20230219T093000
DTEND;TZID=Atlantic/Bermuda:20230219T113000
DTSTAMP:20260420T191057
CREATED:20221011T143937Z
LAST-MODIFIED:20221011T143937Z
UID:10874-1676799000-1676806200@www.bva.bm
SUMMARY:U14 Girls Training
DESCRIPTION:
URL:https://www.bva.bm/event/u14-girls-training-38/
LOCATION:MSA Gym
END:VEVENT
BEGIN:VEVENT
DTSTART;TZID=Atlantic/Bermuda:20230219T100000
DTEND;TZID=Atlantic/Bermuda:20230219T113000
DTSTAMP:20260420T191057
CREATED:20221011T143435Z
LAST-MODIFIED:20221011T143505Z
UID:10436-1676800800-1676806200@www.bva.bm
SUMMARY:U11 Girls Training
DESCRIPTION:………………………………………………………………………………………………………………………..\nJoin online meeting\n………………………………………………………………………………………………………………………..
URL:https://www.bva.bm/event/u11-girls-training-31/
LOCATION:Warwick Gym
END:VEVENT
BEGIN:VEVENT
DTSTART;TZID=Atlantic/Bermuda:20230219T120000
DTEND;TZID=Atlantic/Bermuda:20230219T140000
DTSTAMP:20260420T191057
CREATED:20221011T143435Z
LAST-MODIFIED:20221011T143505Z
UID:10438-1676808000-1676815200@www.bva.bm
SUMMARY:U13 Girls Training
DESCRIPTION:
URL:https://www.bva.bm/event/u13-girls-training-32/
LOCATION:Warwick Gym
END:VEVENT
BEGIN:VEVENT
DTSTART;TZID=Atlantic/Bermuda:20230219T140000
DTEND;TZID=Atlantic/Bermuda:20230219T180000
DTSTAMP:20260420T191057
CREATED:20221011T143435Z
LAST-MODIFIED:20221011T143505Z
UID:10439-1676815200-1676829600@www.bva.bm
SUMMARY:BVA Men's Tournament
DESCRIPTION:
URL:https://www.bva.bm/event/bva-mens-tournament/
LOCATION:Warwick Gym
END:VEVENT
END:VCALENDAR