BEGIN:VCALENDAR
VERSION:2.0
PRODID:-//Bermuda Volleyball Association - ECPv6.15.20//NONSGML v1.0//EN
CALSCALE:GREGORIAN
METHOD:PUBLISH
X-ORIGINAL-URL:https://www.bva.bm
X-WR-CALDESC:Events for Bermuda Volleyball Association
REFRESH-INTERVAL;VALUE=DURATION:PT1H
X-Robots-Tag:noindex
X-PUBLISHED-TTL:PT1H
BEGIN:VTIMEZONE
TZID:Atlantic/Bermuda
BEGIN:DAYLIGHT
TZOFFSETFROM:-0400
TZOFFSETTO:-0300
TZNAME:ADT
DTSTART:20220313T060000
END:DAYLIGHT
BEGIN:STANDARD
TZOFFSETFROM:-0300
TZOFFSETTO:-0400
TZNAME:AST
DTSTART:20221106T050000
END:STANDARD
BEGIN:DAYLIGHT
TZOFFSETFROM:-0400
TZOFFSETTO:-0300
TZNAME:ADT
DTSTART:20230312T060000
END:DAYLIGHT
BEGIN:STANDARD
TZOFFSETFROM:-0300
TZOFFSETTO:-0400
TZNAME:AST
DTSTART:20231105T050000
END:STANDARD
BEGIN:DAYLIGHT
TZOFFSETFROM:-0400
TZOFFSETTO:-0300
TZNAME:ADT
DTSTART:20240310T060000
END:DAYLIGHT
BEGIN:STANDARD
TZOFFSETFROM:-0300
TZOFFSETTO:-0400
TZNAME:AST
DTSTART:20241103T050000
END:STANDARD
END:VTIMEZONE
BEGIN:VEVENT
DTSTART;TZID=Atlantic/Bermuda:20230209T090000
DTEND;TZID=Atlantic/Bermuda:20230209T150000
DTSTAMP:20260420T191237
CREATED:20221011T143433Z
LAST-MODIFIED:20221011T143504Z
UID:10417-1675933200-1675954800@www.bva.bm
SUMMARY:February Volleyball Camp
DESCRIPTION:
URL:https://www.bva.bm/event/february-volleyball-camp-4/
END:VEVENT
BEGIN:VEVENT
DTSTART;TZID=Atlantic/Bermuda:20230209T180000
DTEND;TZID=Atlantic/Bermuda:20230209T200000
DTSTAMP:20260420T191237
CREATED:20221011T143433Z
LAST-MODIFIED:20221011T143504Z
UID:10418-1675965600-1675972800@www.bva.bm
SUMMARY:U14 Girls Training
DESCRIPTION:………………………………………………………………………………………………………………………..\nJoin online meeting\n………………………………………………………………………………………………………………………..
URL:https://www.bva.bm/event/u14-girls-training-15/
LOCATION:Warwick Gym
END:VEVENT
BEGIN:VEVENT
DTSTART;TZID=Atlantic/Bermuda:20230209T200000
DTEND;TZID=Atlantic/Bermuda:20230209T220000
DTSTAMP:20260420T191237
CREATED:20221011T143433Z
LAST-MODIFIED:20221011T143504Z
UID:10419-1675972800-1675980000@www.bva.bm
SUMMARY:Coed League
DESCRIPTION:
URL:https://www.bva.bm/event/coed-league-10/
LOCATION:Warwick Gym
END:VEVENT
BEGIN:VEVENT
DTSTART;TZID=Atlantic/Bermuda:20230209T200000
DTEND;TZID=Atlantic/Bermuda:20230209T220000
DTSTAMP:20260420T191237
CREATED:20221011T143937Z
LAST-MODIFIED:20221011T143937Z
UID:10867-1675972800-1675980000@www.bva.bm
SUMMARY:WNT Training
DESCRIPTION:
URL:https://www.bva.bm/event/wnt-training-14/
LOCATION:MSA Gym
END:VEVENT
END:VCALENDAR