BEGIN:VCALENDAR
VERSION:2.0
PRODID:-//Bermuda Volleyball Association - ECPv6.15.20//NONSGML v1.0//EN
CALSCALE:GREGORIAN
METHOD:PUBLISH
X-ORIGINAL-URL:https://www.bva.bm
X-WR-CALDESC:Events for Bermuda Volleyball Association
REFRESH-INTERVAL;VALUE=DURATION:PT1H
X-Robots-Tag:noindex
X-PUBLISHED-TTL:PT1H
BEGIN:VTIMEZONE
TZID:Atlantic/Bermuda
BEGIN:DAYLIGHT
TZOFFSETFROM:-0400
TZOFFSETTO:-0300
TZNAME:ADT
DTSTART:20220313T060000
END:DAYLIGHT
BEGIN:STANDARD
TZOFFSETFROM:-0300
TZOFFSETTO:-0400
TZNAME:AST
DTSTART:20221106T050000
END:STANDARD
BEGIN:DAYLIGHT
TZOFFSETFROM:-0400
TZOFFSETTO:-0300
TZNAME:ADT
DTSTART:20230312T060000
END:DAYLIGHT
BEGIN:STANDARD
TZOFFSETFROM:-0300
TZOFFSETTO:-0400
TZNAME:AST
DTSTART:20231105T050000
END:STANDARD
BEGIN:DAYLIGHT
TZOFFSETFROM:-0400
TZOFFSETTO:-0300
TZNAME:ADT
DTSTART:20240310T060000
END:DAYLIGHT
BEGIN:STANDARD
TZOFFSETFROM:-0300
TZOFFSETTO:-0400
TZNAME:AST
DTSTART:20241103T050000
END:STANDARD
END:VTIMEZONE
BEGIN:VEVENT
DTSTART;TZID=Atlantic/Bermuda:20230129T080000
DTEND;TZID=Atlantic/Bermuda:20230129T100000
DTSTAMP:20260420T205056
CREATED:20221011T143432Z
LAST-MODIFIED:20221011T143503Z
UID:10394-1674979200-1674986400@www.bva.bm
SUMMARY:MNT Training
DESCRIPTION:
URL:https://www.bva.bm/event/mnt-training-6/
LOCATION:Warwick Gym
END:VEVENT
BEGIN:VEVENT
DTSTART;TZID=Atlantic/Bermuda:20230129T093000
DTEND;TZID=Atlantic/Bermuda:20230129T113000
DTSTAMP:20260420T205056
CREATED:20221011T143936Z
LAST-MODIFIED:20221011T143936Z
UID:10860-1674984600-1674991800@www.bva.bm
SUMMARY:U14 Girls Training
DESCRIPTION:
URL:https://www.bva.bm/event/u14-girls-training-35/
LOCATION:MSA Gym
END:VEVENT
BEGIN:VEVENT
DTSTART;TZID=Atlantic/Bermuda:20230129T100000
DTEND;TZID=Atlantic/Bermuda:20230129T113000
DTSTAMP:20260420T205056
CREATED:20221011T143432Z
LAST-MODIFIED:20221011T143503Z
UID:10393-1674986400-1674991800@www.bva.bm
SUMMARY:U11 Girls Training
DESCRIPTION:………………………………………………………………………………………………………………………..\nJoin online meeting\n………………………………………………………………………………………………………………………..
URL:https://www.bva.bm/event/u11-girls-training-25/
LOCATION:Warwick Gym
END:VEVENT
BEGIN:VEVENT
DTSTART;TZID=Atlantic/Bermuda:20230129T120000
DTEND;TZID=Atlantic/Bermuda:20230129T140000
DTSTAMP:20260420T205056
CREATED:20221011T143432Z
LAST-MODIFIED:20221011T143503Z
UID:10395-1674993600-1675000800@www.bva.bm
SUMMARY:U13 Girls Training
DESCRIPTION:
URL:https://www.bva.bm/event/u13-girls-training-26/
LOCATION:Warwick Gym
END:VEVENT
BEGIN:VEVENT
DTSTART;TZID=Atlantic/Bermuda:20230129T140000
DTEND;TZID=Atlantic/Bermuda:20230129T180000
DTSTAMP:20260420T205056
CREATED:20221011T143432Z
LAST-MODIFIED:20221011T143503Z
UID:10396-1675000800-1675015200@www.bva.bm
SUMMARY:Youth League
DESCRIPTION:
URL:https://www.bva.bm/event/youth-league-9/
LOCATION:Warwick Gym
END:VEVENT
END:VCALENDAR