BEGIN:VCALENDAR
VERSION:2.0
PRODID:-//Bermuda Volleyball Association - ECPv6.15.20//NONSGML v1.0//EN
CALSCALE:GREGORIAN
METHOD:PUBLISH
X-ORIGINAL-URL:https://www.bva.bm
X-WR-CALDESC:Events for Bermuda Volleyball Association
REFRESH-INTERVAL;VALUE=DURATION:PT1H
X-Robots-Tag:noindex
X-PUBLISHED-TTL:PT1H
BEGIN:VTIMEZONE
TZID:Atlantic/Bermuda
BEGIN:DAYLIGHT
TZOFFSETFROM:-0400
TZOFFSETTO:-0300
TZNAME:ADT
DTSTART:20220313T060000
END:DAYLIGHT
BEGIN:STANDARD
TZOFFSETFROM:-0300
TZOFFSETTO:-0400
TZNAME:AST
DTSTART:20221106T050000
END:STANDARD
BEGIN:DAYLIGHT
TZOFFSETFROM:-0400
TZOFFSETTO:-0300
TZNAME:ADT
DTSTART:20230312T060000
END:DAYLIGHT
BEGIN:STANDARD
TZOFFSETFROM:-0300
TZOFFSETTO:-0400
TZNAME:AST
DTSTART:20231105T050000
END:STANDARD
BEGIN:DAYLIGHT
TZOFFSETFROM:-0400
TZOFFSETTO:-0300
TZNAME:ADT
DTSTART:20240310T060000
END:DAYLIGHT
BEGIN:STANDARD
TZOFFSETFROM:-0300
TZOFFSETTO:-0400
TZNAME:AST
DTSTART:20241103T050000
END:STANDARD
END:VTIMEZONE
BEGIN:VEVENT
DTSTART;TZID=Atlantic/Bermuda:20230125T180000
DTEND;TZID=Atlantic/Bermuda:20230125T193000
DTSTAMP:20260420T205121
CREATED:20221011T143431Z
LAST-MODIFIED:20221011T143502Z
UID:10387-1674669600-1674675000@www.bva.bm
SUMMARY:U11 Girls Training
DESCRIPTION:
URL:https://www.bva.bm/event/u11-girls-training-24/
LOCATION:Warwick Gym
END:VEVENT
BEGIN:VEVENT
DTSTART;TZID=Atlantic/Bermuda:20230125T180000
DTEND;TZID=Atlantic/Bermuda:20230125T220000
DTSTAMP:20260420T205121
CREATED:20221011T142621Z
LAST-MODIFIED:20221011T142622Z
UID:10212-1674669600-1674684000@www.bva.bm
SUMMARY:Coed Winter League
DESCRIPTION:………………………………………………………………………………………………………………………..\nJoin online meeting\n………………………………………………………………………………………………………………………..
URL:https://www.bva.bm/event/coed-winter-league-8/
LOCATION:Somersfield Academy (Middle Road\, Devenshire\, Bermuda)
END:VEVENT
BEGIN:VEVENT
DTSTART;TZID=Atlantic/Bermuda:20230125T200000
DTEND;TZID=Atlantic/Bermuda:20230125T220000
DTSTAMP:20260420T205121
CREATED:20221011T143431Z
LAST-MODIFIED:20221011T143502Z
UID:10388-1674676800-1674684000@www.bva.bm
SUMMARY:MNT Training
DESCRIPTION:
URL:https://www.bva.bm/event/mnt-training-5/
LOCATION:Warwick Gym
END:VEVENT
END:VCALENDAR