BEGIN:VCALENDAR
VERSION:2.0
PRODID:-//Bermuda Volleyball Association - ECPv6.15.20//NONSGML v1.0//EN
CALSCALE:GREGORIAN
METHOD:PUBLISH
X-WR-CALNAME:Bermuda Volleyball Association
X-ORIGINAL-URL:https://www.bva.bm
X-WR-CALDESC:Events for Bermuda Volleyball Association
REFRESH-INTERVAL;VALUE=DURATION:PT1H
X-Robots-Tag:noindex
X-PUBLISHED-TTL:PT1H
BEGIN:VTIMEZONE
TZID:Atlantic/Bermuda
BEGIN:DAYLIGHT
TZOFFSETFROM:-0400
TZOFFSETTO:-0300
TZNAME:ADT
DTSTART:20220313T060000
END:DAYLIGHT
BEGIN:STANDARD
TZOFFSETFROM:-0300
TZOFFSETTO:-0400
TZNAME:AST
DTSTART:20221106T050000
END:STANDARD
BEGIN:DAYLIGHT
TZOFFSETFROM:-0400
TZOFFSETTO:-0300
TZNAME:ADT
DTSTART:20230312T060000
END:DAYLIGHT
BEGIN:STANDARD
TZOFFSETFROM:-0300
TZOFFSETTO:-0400
TZNAME:AST
DTSTART:20231105T050000
END:STANDARD
BEGIN:DAYLIGHT
TZOFFSETFROM:-0400
TZOFFSETTO:-0300
TZNAME:ADT
DTSTART:20240310T060000
END:DAYLIGHT
BEGIN:STANDARD
TZOFFSETFROM:-0300
TZOFFSETTO:-0400
TZNAME:AST
DTSTART:20241103T050000
END:STANDARD
END:VTIMEZONE
BEGIN:VEVENT
DTSTART;TZID=Atlantic/Bermuda:20230122T080000
DTEND;TZID=Atlantic/Bermuda:20230122T100000
DTSTAMP:20260420T224744
CREATED:20221011T143431Z
LAST-MODIFIED:20221011T143502Z
UID:10380-1674374400-1674381600@www.bva.bm
SUMMARY:MNT Training
DESCRIPTION:
URL:https://www.bva.bm/event/mnt-training-4/
LOCATION:Warwick Gym
END:VEVENT
BEGIN:VEVENT
DTSTART;TZID=Atlantic/Bermuda:20230122T093000
DTEND;TZID=Atlantic/Bermuda:20230122T113000
DTSTAMP:20260420T224744
CREATED:20221011T143936Z
LAST-MODIFIED:20221011T143936Z
UID:10856-1674379800-1674387000@www.bva.bm
SUMMARY:U14 Girls Training
DESCRIPTION:
URL:https://www.bva.bm/event/u14-girls-training-34/
LOCATION:MSA Gym
END:VEVENT
BEGIN:VEVENT
DTSTART;TZID=Atlantic/Bermuda:20230122T100000
DTEND;TZID=Atlantic/Bermuda:20230122T113000
DTSTAMP:20260420T224744
CREATED:20221011T143431Z
LAST-MODIFIED:20221011T143502Z
UID:10381-1674381600-1674387000@www.bva.bm
SUMMARY:U11 Girls Training
DESCRIPTION:………………………………………………………………………………………………………………………..\nJoin online meeting\n………………………………………………………………………………………………………………………..
URL:https://www.bva.bm/event/u11-girls-training-23/
LOCATION:Warwick Gym
END:VEVENT
BEGIN:VEVENT
DTSTART;TZID=Atlantic/Bermuda:20230122T120000
DTEND;TZID=Atlantic/Bermuda:20230122T140000
DTSTAMP:20260420T224744
CREATED:20221011T143431Z
LAST-MODIFIED:20221011T143502Z
UID:10382-1674388800-1674396000@www.bva.bm
SUMMARY:U13 Girls Training
DESCRIPTION:
URL:https://www.bva.bm/event/u13-girls-training-24/
LOCATION:Warwick Gym
END:VEVENT
BEGIN:VEVENT
DTSTART;TZID=Atlantic/Bermuda:20230122T140000
DTEND;TZID=Atlantic/Bermuda:20230122T180000
DTSTAMP:20260420T224744
CREATED:20221011T143431Z
LAST-MODIFIED:20221011T143502Z
UID:10383-1674396000-1674410400@www.bva.bm
SUMMARY:Youth League
DESCRIPTION:
URL:https://www.bva.bm/event/youth-league-8/
LOCATION:Warwick Gym
END:VEVENT
END:VCALENDAR