BEGIN:VCALENDAR
VERSION:2.0
PRODID:-//Bermuda Volleyball Association - ECPv6.15.20//NONSGML v1.0//EN
CALSCALE:GREGORIAN
METHOD:PUBLISH
X-WR-CALNAME:Bermuda Volleyball Association
X-ORIGINAL-URL:https://www.bva.bm
X-WR-CALDESC:Events for Bermuda Volleyball Association
REFRESH-INTERVAL;VALUE=DURATION:PT1H
X-Robots-Tag:noindex
X-PUBLISHED-TTL:PT1H
BEGIN:VTIMEZONE
TZID:Atlantic/Bermuda
BEGIN:DAYLIGHT
TZOFFSETFROM:-0400
TZOFFSETTO:-0300
TZNAME:ADT
DTSTART:20210314T060000
END:DAYLIGHT
BEGIN:STANDARD
TZOFFSETFROM:-0300
TZOFFSETTO:-0400
TZNAME:AST
DTSTART:20211107T050000
END:STANDARD
BEGIN:DAYLIGHT
TZOFFSETFROM:-0400
TZOFFSETTO:-0300
TZNAME:ADT
DTSTART:20220313T060000
END:DAYLIGHT
BEGIN:STANDARD
TZOFFSETFROM:-0300
TZOFFSETTO:-0400
TZNAME:AST
DTSTART:20221106T050000
END:STANDARD
BEGIN:DAYLIGHT
TZOFFSETFROM:-0400
TZOFFSETTO:-0300
TZNAME:ADT
DTSTART:20230312T060000
END:DAYLIGHT
BEGIN:STANDARD
TZOFFSETFROM:-0300
TZOFFSETTO:-0400
TZNAME:AST
DTSTART:20231105T050000
END:STANDARD
END:VTIMEZONE
BEGIN:VEVENT
DTSTART;TZID=Atlantic/Bermuda:20221126T080000
DTEND;TZID=Atlantic/Bermuda:20221126T100000
DTSTAMP:20260421T003826
CREATED:20221011T143935Z
LAST-MODIFIED:20221011T143935Z
UID:10838-1669449600-1669456800@www.bva.bm
SUMMARY:U18 Girls Training
DESCRIPTION:
URL:https://www.bva.bm/event/u18-girls-training-15/
LOCATION:MSA Gym
END:VEVENT
BEGIN:VEVENT
DTSTART;TZID=Atlantic/Bermuda:20221126T083000
DTEND;TZID=Atlantic/Bermuda:20221126T120000
DTSTAMP:20260421T003826
CREATED:20221011T143427Z
LAST-MODIFIED:20221011T143458Z
UID:10325-1669451400-1669464000@www.bva.bm
SUMMARY:Boys Training
DESCRIPTION:
URL:https://www.bva.bm/event/boys-training-15/
LOCATION:Warwick Acadmey
END:VEVENT
BEGIN:VEVENT
DTSTART;TZID=Atlantic/Bermuda:20221126T120000
DTEND;TZID=Atlantic/Bermuda:20221126T140000
DTSTAMP:20260421T003826
CREATED:20221011T143427Z
LAST-MODIFIED:20221011T143458Z
UID:10326-1669464000-1669471200@www.bva.bm
SUMMARY:U16 Girls Training
DESCRIPTION:
URL:https://www.bva.bm/event/u16-girls-training-15/
LOCATION:Warwick Academy
END:VEVENT
END:VCALENDAR