BEGIN:VCALENDAR
VERSION:2.0
PRODID:-//Bermuda Volleyball Association - ECPv6.15.20//NONSGML v1.0//EN
CALSCALE:GREGORIAN
METHOD:PUBLISH
X-WR-CALNAME:Bermuda Volleyball Association
X-ORIGINAL-URL:https://www.bva.bm
X-WR-CALDESC:Events for Bermuda Volleyball Association
REFRESH-INTERVAL;VALUE=DURATION:PT1H
X-Robots-Tag:noindex
X-PUBLISHED-TTL:PT1H
BEGIN:VTIMEZONE
TZID:Atlantic/Bermuda
BEGIN:DAYLIGHT
TZOFFSETFROM:-0400
TZOFFSETTO:-0300
TZNAME:ADT
DTSTART:20210314T060000
END:DAYLIGHT
BEGIN:STANDARD
TZOFFSETFROM:-0300
TZOFFSETTO:-0400
TZNAME:AST
DTSTART:20211107T050000
END:STANDARD
BEGIN:DAYLIGHT
TZOFFSETFROM:-0400
TZOFFSETTO:-0300
TZNAME:ADT
DTSTART:20220313T060000
END:DAYLIGHT
BEGIN:STANDARD
TZOFFSETFROM:-0300
TZOFFSETTO:-0400
TZNAME:AST
DTSTART:20221106T050000
END:STANDARD
BEGIN:DAYLIGHT
TZOFFSETFROM:-0400
TZOFFSETTO:-0300
TZNAME:ADT
DTSTART:20230312T060000
END:DAYLIGHT
BEGIN:STANDARD
TZOFFSETFROM:-0300
TZOFFSETTO:-0400
TZNAME:AST
DTSTART:20231105T050000
END:STANDARD
END:VTIMEZONE
BEGIN:VEVENT
DTSTART;VALUE=DATE:20221110
DTEND;VALUE=DATE:20221115
DTSTAMP:20260421T003827
CREATED:20221011T144125Z
LAST-MODIFIED:20221011T144125Z
UID:10910-1668038400-1668470399@www.bva.bm
SUMMARY:NORCECA Beach Tour
DESCRIPTION:
URL:https://www.bva.bm/event/norceca-beach-tour/
LOCATION:Cayman Islands
END:VEVENT
BEGIN:VEVENT
DTSTART;TZID=Atlantic/Bermuda:20221112T080000
DTEND;TZID=Atlantic/Bermuda:20221112T100000
DTSTAMP:20260421T003827
CREATED:20221011T143934Z
LAST-MODIFIED:20221011T143934Z
UID:10826-1668240000-1668247200@www.bva.bm
SUMMARY:U18 Girls Training
DESCRIPTION:
URL:https://www.bva.bm/event/u18-girls-training-11/
LOCATION:MSA Gym
END:VEVENT
BEGIN:VEVENT
DTSTART;TZID=Atlantic/Bermuda:20221112T083000
DTEND;TZID=Atlantic/Bermuda:20221112T120000
DTSTAMP:20260421T003827
CREATED:20221011T143425Z
LAST-MODIFIED:20221011T143457Z
UID:10303-1668241800-1668254400@www.bva.bm
SUMMARY:Boys Training
DESCRIPTION:
URL:https://www.bva.bm/event/boys-training-11/
LOCATION:Warwick Acadmey
END:VEVENT
BEGIN:VEVENT
DTSTART;TZID=Atlantic/Bermuda:20221112T120000
DTEND;TZID=Atlantic/Bermuda:20221112T140000
DTSTAMP:20260421T003827
CREATED:20221011T143425Z
LAST-MODIFIED:20221011T143457Z
UID:10304-1668254400-1668261600@www.bva.bm
SUMMARY:U16 Girls Training
DESCRIPTION:
URL:https://www.bva.bm/event/u16-girls-training-11/
LOCATION:Warwick Academy
END:VEVENT
END:VCALENDAR