BEGIN:VCALENDAR
VERSION:2.0
PRODID:-//Bermuda Volleyball Association - ECPv6.15.20//NONSGML v1.0//EN
CALSCALE:GREGORIAN
METHOD:PUBLISH
X-WR-CALNAME:Bermuda Volleyball Association
X-ORIGINAL-URL:https://www.bva.bm
X-WR-CALDESC:Events for Bermuda Volleyball Association
REFRESH-INTERVAL;VALUE=DURATION:PT1H
X-Robots-Tag:noindex
X-PUBLISHED-TTL:PT1H
BEGIN:VTIMEZONE
TZID:Atlantic/Bermuda
BEGIN:DAYLIGHT
TZOFFSETFROM:-0400
TZOFFSETTO:-0300
TZNAME:ADT
DTSTART:20210314T060000
END:DAYLIGHT
BEGIN:STANDARD
TZOFFSETFROM:-0300
TZOFFSETTO:-0400
TZNAME:AST
DTSTART:20211107T050000
END:STANDARD
BEGIN:DAYLIGHT
TZOFFSETFROM:-0400
TZOFFSETTO:-0300
TZNAME:ADT
DTSTART:20220313T060000
END:DAYLIGHT
BEGIN:STANDARD
TZOFFSETFROM:-0300
TZOFFSETTO:-0400
TZNAME:AST
DTSTART:20221106T050000
END:STANDARD
BEGIN:DAYLIGHT
TZOFFSETFROM:-0400
TZOFFSETTO:-0300
TZNAME:ADT
DTSTART:20230312T060000
END:DAYLIGHT
BEGIN:STANDARD
TZOFFSETFROM:-0300
TZOFFSETTO:-0400
TZNAME:AST
DTSTART:20231105T050000
END:STANDARD
END:VTIMEZONE
BEGIN:VEVENT
DTSTART;TZID=Atlantic/Bermuda:20221108T180000
DTEND;TZID=Atlantic/Bermuda:20221108T200000
DTSTAMP:20260421T003754
CREATED:20221011T143425Z
LAST-MODIFIED:20221011T143457Z
UID:10298-1667930400-1667937600@www.bva.bm
SUMMARY:U13 Girls Training
DESCRIPTION:
URL:https://www.bva.bm/event/u13-girls-training-10/
LOCATION:Warwick Gym
END:VEVENT
BEGIN:VEVENT
DTSTART;TZID=Atlantic/Bermuda:20221108T180000
DTEND;TZID=Atlantic/Bermuda:20221108T220000
DTSTAMP:20260421T003754
CREATED:20221011T143934Z
LAST-MODIFIED:20221011T151721Z
UID:10823-1667930400-1667944800@www.bva.bm
SUMMARY:Men's Winter League
DESCRIPTION:
URL:https://www.bva.bm/event/mens-winter-league/
CATEGORIES:Indoor League
ATTACH;FMTTYPE=image/jpeg:https://www.bva.bm/wp-content/uploads/2022/09/BVA-Winter-League.jpeg
END:VEVENT
BEGIN:VEVENT
DTSTART;TZID=Atlantic/Bermuda:20221108T200000
DTEND;TZID=Atlantic/Bermuda:20221108T220000
DTSTAMP:20260421T003754
CREATED:20221011T143425Z
LAST-MODIFIED:20221011T143457Z
UID:10299-1667937600-1667944800@www.bva.bm
SUMMARY:U16 Girls Training
DESCRIPTION:………………………………………………………………………………………………………………………..\nJoin online meeting\n………………………………………………………………………………………………………………………..
URL:https://www.bva.bm/event/u16-girls-training-10/
LOCATION:Warwick Academy
END:VEVENT
END:VCALENDAR