BEGIN:VCALENDAR
VERSION:2.0
PRODID:-//Bermuda Volleyball Association - ECPv6.15.20//NONSGML v1.0//EN
CALSCALE:GREGORIAN
METHOD:PUBLISH
X-WR-CALNAME:Bermuda Volleyball Association
X-ORIGINAL-URL:https://www.bva.bm
X-WR-CALDESC:Events for Bermuda Volleyball Association
REFRESH-INTERVAL;VALUE=DURATION:PT1H
X-Robots-Tag:noindex
X-PUBLISHED-TTL:PT1H
BEGIN:VTIMEZONE
TZID:Atlantic/Bermuda
BEGIN:DAYLIGHT
TZOFFSETFROM:-0400
TZOFFSETTO:-0300
TZNAME:ADT
DTSTART:20210314T060000
END:DAYLIGHT
BEGIN:STANDARD
TZOFFSETFROM:-0300
TZOFFSETTO:-0400
TZNAME:AST
DTSTART:20211107T050000
END:STANDARD
BEGIN:DAYLIGHT
TZOFFSETFROM:-0400
TZOFFSETTO:-0300
TZNAME:ADT
DTSTART:20220313T060000
END:DAYLIGHT
BEGIN:STANDARD
TZOFFSETFROM:-0300
TZOFFSETTO:-0400
TZNAME:AST
DTSTART:20221106T050000
END:STANDARD
BEGIN:DAYLIGHT
TZOFFSETFROM:-0400
TZOFFSETTO:-0300
TZNAME:ADT
DTSTART:20230312T060000
END:DAYLIGHT
BEGIN:STANDARD
TZOFFSETFROM:-0300
TZOFFSETTO:-0400
TZNAME:AST
DTSTART:20231105T050000
END:STANDARD
END:VTIMEZONE
BEGIN:VEVENT
DTSTART;TZID=Atlantic/Bermuda:20221106T093000
DTEND;TZID=Atlantic/Bermuda:20221106T113000
DTSTAMP:20260421T003754
CREATED:20221011T143934Z
LAST-MODIFIED:20221011T143934Z
UID:10821-1667727000-1667734200@www.bva.bm
SUMMARY:U14 Girls Training
DESCRIPTION:
URL:https://www.bva.bm/event/u14-girls-training-27/
LOCATION:MSA Gym
END:VEVENT
BEGIN:VEVENT
DTSTART;TZID=Atlantic/Bermuda:20221106T100000
DTEND;TZID=Atlantic/Bermuda:20221106T113000
DTSTAMP:20260421T003754
CREATED:20221011T143425Z
LAST-MODIFIED:20221011T143456Z
UID:10294-1667728800-1667734200@www.bva.bm
SUMMARY:U11 Girls Training
DESCRIPTION:………………………………………………………………………………………………………………………..\nJoin online meeting\n………………………………………………………………………………………………………………………..
URL:https://www.bva.bm/event/u11-girls-training-9/
LOCATION:Warwick Gym
END:VEVENT
BEGIN:VEVENT
DTSTART;TZID=Atlantic/Bermuda:20221106T120000
DTEND;TZID=Atlantic/Bermuda:20221106T140000
DTSTAMP:20260421T003754
CREATED:20221011T143425Z
LAST-MODIFIED:20221011T143456Z
UID:10295-1667736000-1667743200@www.bva.bm
SUMMARY:U13 Girls Training
DESCRIPTION:
URL:https://www.bva.bm/event/u13-girls-training-9/
LOCATION:Warwick Gym
END:VEVENT
BEGIN:VEVENT
DTSTART;TZID=Atlantic/Bermuda:20221106T130000
DTEND;TZID=Atlantic/Bermuda:20221106T170000
DTSTAMP:20260421T003754
CREATED:20221011T143425Z
LAST-MODIFIED:20221011T151318Z
UID:10296-1667739600-1667754000@www.bva.bm
SUMMARY:Youth League
DESCRIPTION:
URL:https://www.bva.bm/event/youth-league/
LOCATION:Warwick Academy
CATEGORIES:Indoor League
ATTACH;FMTTYPE=image/jpeg:https://www.bva.bm/wp-content/uploads/2022/10/PHOTO-2022-08-24-20-55-10.jpg
END:VEVENT
END:VCALENDAR