BEGIN:VCALENDAR
VERSION:2.0
PRODID:-//Bermuda Volleyball Association - ECPv6.15.20//NONSGML v1.0//EN
CALSCALE:GREGORIAN
METHOD:PUBLISH
X-ORIGINAL-URL:https://www.bva.bm
X-WR-CALDESC:Events for Bermuda Volleyball Association
REFRESH-INTERVAL;VALUE=DURATION:PT1H
X-Robots-Tag:noindex
X-PUBLISHED-TTL:PT1H
BEGIN:VTIMEZONE
TZID:Atlantic/Bermuda
BEGIN:DAYLIGHT
TZOFFSETFROM:-0400
TZOFFSETTO:-0300
TZNAME:ADT
DTSTART:20210314T060000
END:DAYLIGHT
BEGIN:STANDARD
TZOFFSETFROM:-0300
TZOFFSETTO:-0400
TZNAME:AST
DTSTART:20211107T050000
END:STANDARD
BEGIN:DAYLIGHT
TZOFFSETFROM:-0400
TZOFFSETTO:-0300
TZNAME:ADT
DTSTART:20220313T060000
END:DAYLIGHT
BEGIN:STANDARD
TZOFFSETFROM:-0300
TZOFFSETTO:-0400
TZNAME:AST
DTSTART:20221106T050000
END:STANDARD
BEGIN:DAYLIGHT
TZOFFSETFROM:-0400
TZOFFSETTO:-0300
TZNAME:ADT
DTSTART:20230312T060000
END:DAYLIGHT
BEGIN:STANDARD
TZOFFSETFROM:-0300
TZOFFSETTO:-0400
TZNAME:AST
DTSTART:20231105T050000
END:STANDARD
END:VTIMEZONE
BEGIN:VEVENT
DTSTART;TZID=Atlantic/Bermuda:20221025T090000
DTEND;TZID=Atlantic/Bermuda:20221025T160000
DTSTAMP:20260421T023439
CREATED:20221011T143423Z
LAST-MODIFIED:20221011T160048Z
UID:10930-1666688400-1666713600@www.bva.bm
SUMMARY:Fall Volleyball Camp
DESCRIPTION:
URL:https://www.bva.bm/event/fall-volleyball-camp-2022-10-25/
LOCATION:Warwick Academy Gym
ATTACH;FMTTYPE=image/jpeg:https://www.bva.bm/wp-content/uploads/2022/09/Oct-Camp-Poster-2022.jpg
END:VEVENT
BEGIN:VEVENT
DTSTART;TZID=Atlantic/Bermuda:20221025T180000
DTEND;TZID=Atlantic/Bermuda:20221025T200000
DTSTAMP:20260421T023439
CREATED:20221011T143424Z
LAST-MODIFIED:20221011T143455Z
UID:10274-1666720800-1666728000@www.bva.bm
SUMMARY:U13 Girls Training
DESCRIPTION:
URL:https://www.bva.bm/event/u13-girls-training-6/
LOCATION:Warwick Gym
END:VEVENT
BEGIN:VEVENT
DTSTART;TZID=Atlantic/Bermuda:20221025T200000
DTEND;TZID=Atlantic/Bermuda:20221025T220000
DTSTAMP:20260421T023439
CREATED:20221011T143424Z
LAST-MODIFIED:20221011T143455Z
UID:10275-1666728000-1666735200@www.bva.bm
SUMMARY:U16 Girls Training
DESCRIPTION:………………………………………………………………………………………………………………………..\nJoin online meeting\n………………………………………………………………………………………………………………………..
URL:https://www.bva.bm/event/u16-girls-training-6/
LOCATION:Warwick Academy
END:VEVENT
END:VCALENDAR