BEGIN:VCALENDAR
VERSION:2.0
PRODID:-//Bermuda Volleyball Association - ECPv6.15.20//NONSGML v1.0//EN
CALSCALE:GREGORIAN
METHOD:PUBLISH
X-ORIGINAL-URL:https://www.bva.bm
X-WR-CALDESC:Events for Bermuda Volleyball Association
REFRESH-INTERVAL;VALUE=DURATION:PT1H
X-Robots-Tag:noindex
X-PUBLISHED-TTL:PT1H
BEGIN:VTIMEZONE
TZID:Atlantic/Bermuda
BEGIN:DAYLIGHT
TZOFFSETFROM:-0400
TZOFFSETTO:-0300
TZNAME:ADT
DTSTART:20210314T060000
END:DAYLIGHT
BEGIN:STANDARD
TZOFFSETFROM:-0300
TZOFFSETTO:-0400
TZNAME:AST
DTSTART:20211107T050000
END:STANDARD
BEGIN:DAYLIGHT
TZOFFSETFROM:-0400
TZOFFSETTO:-0300
TZNAME:ADT
DTSTART:20220313T060000
END:DAYLIGHT
BEGIN:STANDARD
TZOFFSETFROM:-0300
TZOFFSETTO:-0400
TZNAME:AST
DTSTART:20221106T050000
END:STANDARD
BEGIN:DAYLIGHT
TZOFFSETFROM:-0400
TZOFFSETTO:-0300
TZNAME:ADT
DTSTART:20230312T060000
END:DAYLIGHT
BEGIN:STANDARD
TZOFFSETFROM:-0300
TZOFFSETTO:-0400
TZNAME:AST
DTSTART:20231105T050000
END:STANDARD
END:VTIMEZONE
BEGIN:VEVENT
DTSTART;TZID=Atlantic/Bermuda:20221015T080000
DTEND;TZID=Atlantic/Bermuda:20221015T100000
DTSTAMP:20260421T023432
CREATED:20221011T142620Z
LAST-MODIFIED:20221011T142622Z
UID:10189-1665820800-1665828000@www.bva.bm
SUMMARY:Referee Clinic - Practical
DESCRIPTION:
URL:https://www.bva.bm/event/referee-clinic-practical/
END:VEVENT
BEGIN:VEVENT
DTSTART;TZID=Atlantic/Bermuda:20221015T083000
DTEND;TZID=Atlantic/Bermuda:20221015T120000
DTSTAMP:20260421T023432
CREATED:20221011T143423Z
LAST-MODIFIED:20221011T143423Z
UID:10256-1665822600-1665835200@www.bva.bm
SUMMARY:Boys Training
DESCRIPTION:
URL:https://www.bva.bm/event/boys-training-3/
LOCATION:Warwick Acadmey
END:VEVENT
BEGIN:VEVENT
DTSTART;TZID=Atlantic/Bermuda:20221015T120000
DTEND;TZID=Atlantic/Bermuda:20221015T140000
DTSTAMP:20260421T023432
CREATED:20221011T143423Z
LAST-MODIFIED:20221011T143423Z
UID:10259-1665835200-1665842400@www.bva.bm
SUMMARY:U16 Girls Training
DESCRIPTION:
URL:https://www.bva.bm/event/u16-girls-training-4/
LOCATION:Warwick Academy
END:VEVENT
END:VCALENDAR