BEGIN:VCALENDAR
VERSION:2.0
PRODID:-//Bermuda Volleyball Association - ECPv6.15.20//NONSGML v1.0//EN
CALSCALE:GREGORIAN
METHOD:PUBLISH
X-WR-CALNAME:Bermuda Volleyball Association
X-ORIGINAL-URL:https://www.bva.bm
X-WR-CALDESC:Events for Bermuda Volleyball Association
REFRESH-INTERVAL;VALUE=DURATION:PT1H
X-Robots-Tag:noindex
X-PUBLISHED-TTL:PT1H
BEGIN:VTIMEZONE
TZID:Atlantic/Bermuda
BEGIN:DAYLIGHT
TZOFFSETFROM:-0400
TZOFFSETTO:-0300
TZNAME:ADT
DTSTART:20210314T060000
END:DAYLIGHT
BEGIN:STANDARD
TZOFFSETFROM:-0300
TZOFFSETTO:-0400
TZNAME:AST
DTSTART:20211107T050000
END:STANDARD
BEGIN:DAYLIGHT
TZOFFSETFROM:-0400
TZOFFSETTO:-0300
TZNAME:ADT
DTSTART:20220313T060000
END:DAYLIGHT
BEGIN:STANDARD
TZOFFSETFROM:-0300
TZOFFSETTO:-0400
TZNAME:AST
DTSTART:20221106T050000
END:STANDARD
BEGIN:DAYLIGHT
TZOFFSETFROM:-0400
TZOFFSETTO:-0300
TZNAME:ADT
DTSTART:20230312T060000
END:DAYLIGHT
BEGIN:STANDARD
TZOFFSETFROM:-0300
TZOFFSETTO:-0400
TZNAME:AST
DTSTART:20231105T050000
END:STANDARD
END:VTIMEZONE
BEGIN:VEVENT
DTSTART;TZID=Atlantic/Bermuda:20221013T180000
DTEND;TZID=Atlantic/Bermuda:20221013T200000
DTSTAMP:20260421T023140
CREATED:20221011T143422Z
LAST-MODIFIED:20221011T143454Z
UID:10242-1665684000-1665691200@www.bva.bm
SUMMARY:U14 Girls Training
DESCRIPTION:………………………………………………………………………………………………………………………..\nJoin online meeting\n………………………………………………………………………………………………………………………..
URL:https://www.bva.bm/event/u14-girls-training/
LOCATION:Warwick Gym
END:VEVENT
BEGIN:VEVENT
DTSTART;TZID=Atlantic/Bermuda:20221013T180000
DTEND;TZID=Atlantic/Bermuda:20221013T200000
DTSTAMP:20260421T023140
CREATED:20221011T143932Z
LAST-MODIFIED:20221011T143933Z
UID:10792-1665684000-1665691200@www.bva.bm
SUMMARY:U18 Girls Training
DESCRIPTION:
URL:https://www.bva.bm/event/u18-girls-training/
LOCATION:MSA Gym
END:VEVENT
BEGIN:VEVENT
DTSTART;TZID=Atlantic/Bermuda:20221013T200000
DTEND;TZID=Atlantic/Bermuda:20221013T220000
DTSTAMP:20260421T023140
CREATED:20221011T143422Z
LAST-MODIFIED:20221011T154114Z
UID:10241-1665691200-1665698400@www.bva.bm
SUMMARY:Adult Development Training
DESCRIPTION:
URL:https://www.bva.bm/event/adult-development-training/
LOCATION:Warwick Gym
CATEGORIES:Clinic
ATTACH;FMTTYPE=image/jpeg:https://www.bva.bm/wp-content/uploads/2022/08/Adult-Development-Training-2022-1.jpeg
END:VEVENT
END:VCALENDAR